Workbook
Name Bob: #REF!
Name Location_Name: #REF!
Name Location_Names: #REF!
Name Location_Number: #REF!
Name Location_Numbers: #REF!
Name Market: #REF!
Name Market_1: #REF!
Name Market_10: #REF!
Name Market_100: #REF!
Name Market_101: #REF!
Name Market_102: #REF!
Name Market_103: #REF!
Name Market_105: #REF!
Name Market_107: #REF!
Name Market_108: #REF!
Name Market_109: #REF!
Name Market_11: #REF!
Name Market_110: #REF!
Name Market_111: #REF!
Name Market_114: #REF!
Name Market_115: #REF!
Name Market_116: #REF!
Name Market_117: #REF!
Name Market_118: #REF!
Name Market_119: #REF!
Name Market_12: #REF!
Name Market_120: #REF!
Name Market_121: #REF!
Name Market_124: #REF!
Name Market_125: #REF!
Name Market_126: #REF!
Name Market_128: #REF!
Name Market_129: #REF!
Name Market_13: #REF!
Name Market_130: #REF!
Name Market_131: #REF!
Name Market_132: #REF!
Name Market_133: #REF!
Name Market_134: #REF!
Name Market_135: #REF!
Name Market_136: #REF!
Name Market_137: #REF!
Name Market_139: #REF!
Name Market_14: #REF!
Name Market_140: #REF!
Name Market_141: #REF!
Name Market_144: #REF!
Name Market_145: #REF!
Name Market_147: #REF!
Name Market_148: #REF!
Name Market_149: #REF!
Name Market_15: #REF!
Name Market_150: #REF!
Name Market_151: #REF!
Name Market_152: #REF!
Name Market_153: #REF!
Name Market_154: #REF!
Name Market_155: #REF!
Name Market_156: #REF!
Name Market_157: #REF!

Sheet Gen 5 Containers
A1: Gen 5 Container Repairs | F1: Container Repair Reimbursement Form
F2: Revised: Oct 14, 2026
A3: Date Submitted | F3: ** Please submit all repair forms within 24 hours of the repair completion. **
A4: Market Number | D4: =VLOOKUP(C4,#REF!,5,FALSE) -> #REF! | F4: Container Repair Count | I4: 1 | J4: 2 | K4: 3 | L4: 4 | M4: 5 | N4: 6 | O4: 7 | P4: 8 | Q4: 9 | R4: 10
A5: Market Location | C5: =VLOOKUP($C$4,Sheet7!$K$1:$M$148,2,FALSE) -> #N/A | F5: Container Number
A6: Region | C6: =VLOOKUP($C$4,Sheet7!$K$1:$M$148,3,FALSE) -> #N/A | F6: Container Serial Number | I6: =IFERROR(VLOOKUP(I5,Gen5_List[#All],2,FALSE)," ") | J6: =IFERROR(VLOOKUP(J5,Gen5_List[#All],2,FALSE)," ") | K6: =IFERROR(VLOOKUP(K5,Gen5_List[#All],2,FALSE)," ") | L6: =IFERROR(VLOOKUP(L5,Gen5_List[#All],2,FALSE)," ") | M6: =IFERROR(VLOOKUP(M5,Gen5_List[#All],2,FALSE)," ") | N6: =IFERROR(VLOOKUP(N5,Gen5_List[#All],2,FALSE)," ") | O6: =IFERROR(VLOOKUP(O5,Gen5_List[#All],2,FALSE)," ") | P6: =IFERROR(VLOOKUP(P5,Gen5_List[#All],2,FALSE)," ") | ... R6: =IFERROR(VLOOKUP(R5,Gen5_List[#All],2,FALSE)," ")
A7: Warehouse Name | F7: Date Repaired
A8: Site | C8: =VLOOKUP(SUBSTITUTE(C7,"~","~~"),Locations[['[GL Location Name']]:['[Site Id']]],2,FALSE) -> #N/A | F8: Container Type | I8: =IFERROR(VLOOKUP(I5,Gen_5_List!$A$1:$D$131121,3,FALSE)," ") | J8: =IFERROR(VLOOKUP(J5,Gen_5_List!$A$1:$D$131121,3,FALSE)," ") | K8: =IFERROR(VLOOKUP(K5,Gen_5_List!$A$1:$D$131121,3,FALSE)," ") | L8: =IFERROR(VLOOKUP(L5,Gen_5_List!$A$1:$D$131121,3,FALSE)," ") | M8: =IFERROR(VLOOKUP(M5,Gen_5_List!$A$1:$D$131121,3,FALSE)," ") | N8: =IFERROR(VLOOKUP(N5,Gen_5_List!$A$1:$D$131121,3,FALSE)," ") | O8: =IFERROR(VLOOKUP(O5,Gen_5_List!$A$1:$D$131121,3,FALSE)," ") | P8: =IFERROR(VLOOKUP(P5,Gen_5_List!$A$1:$D$131121,3,FALSE)," ") | ... R8: =IFERROR(VLOOKUP(R5,Gen_5_List!$A$1:$D$131121,3,FALSE)," ")
A9: Warehouse ID | C9: =C8&"-00" -> #N/A | F9: Container Size | I9: =IFERROR(VLOOKUP(I5,Gen_5_List!$A$1:$D$131121,4,FALSE)," ") | J9: =IFERROR(VLOOKUP(J5,Gen_5_List!$A$1:$D$131121,4,FALSE)," ") | K9: =IFERROR(VLOOKUP(K5,Gen_5_List!$A$1:$D$131121,4,FALSE)," ") | L9: =IFERROR(VLOOKUP(L5,Gen_5_List!$A$1:$D$131121,4,FALSE)," ") | M9: =IFERROR(VLOOKUP(M5,Gen_5_List!$A$1:$D$131121,4,FALSE)," ") | N9: =IFERROR(VLOOKUP(N5,Gen_5_List!$A$1:$D$131121,4,FALSE)," ") | O9: =IFERROR(VLOOKUP(O5,Gen_5_List!$A$1:$D$131121,4,FALSE)," ") | P9: =IFERROR(VLOOKUP(P5,Gen_5_List!$A$1:$D$131121,4,FALSE)," ") | ... R9: =IFERROR(VLOOKUP(R5,Gen_5_List!$A$1:$D$131121,4,FALSE)," ")
A10: Submitted By | C10: (Type in First and Last Name) | F10: Container Empty (Not Rented) / Container Full (Rented)
A11: Job Title | F11: Heavy Repair / Light Repair
A12: Market Manager Sign Off | F12: Container Status Has Been Updated To OP
F13: Labor Hours
A14: Market Customer Account Number | C14: =VLOOKUP((C4*1),Sheet2!$U$2:$V$141,2,FALSE) -> #N/A | F14: Container Repair Person Job Title
F15: Container Repair Person Name
F16: Summary Reference | I16: =_xlfn.CONCAT(I5,"-",(TEXT(I7,"MM/DD/YYYY")),"-",I6,"-",I8,"-",I10,"-",I14) -> -01/00/1900- - -- | J16: =_xlfn.CONCAT(J5,"-",(TEXT(J7,"MM/DD/YYYY")),"-",J6,"-",J8,"-",J10,"-",J14) -> -01/00/1900- - -- | K16: =_xlfn.CONCAT(K5,"-",(TEXT(K7,"MM/DD/YYYY")),"-",K6,"-",K8,"-",K10,"-",K14) -> -01/00/1900- - -- | L16: =_xlfn.CONCAT(L5,"-",(TEXT(L7,"MM/DD/YYYY")),"-",L6,"-",L8,"-",L10,"-",L14) -> -01/00/1900- - -- | M16: =_xlfn.CONCAT(M5,"-",(TEXT(M7,"MM/DD/YYYY")),"-",M6,"-",M8,"-",M10,"-",M14) -> -01/00/1900- - -- | N16: =_xlfn.CONCAT(N5,"-",(TEXT(N7,"MM/DD/YYYY")),"-",N6,"-",N8,"-",N10,"-",N14) -> -01/00/1900- - -- | O16: =_xlfn.CONCAT(O5,"-",(TEXT(O7,"MM/DD/YYYY")),"-",O6,"-",O8,"-",O10,"-",O14) -> -01/00/1900- - -- | P16: =_xlfn.CONCAT(P5,"-",(TEXT(P7,"MM/DD/YYYY")),"-",P6,"-",P8,"-",P10,"-",P14) -> -01/00/1900- - -- | ... R16: =_xlfn.CONCAT(R5,"-",(TEXT(R7,"MM/DD/YYYY")),"-",R6,"-",R8,"-",R10,"-",R14) -> -01/00/1900- - --
I17: IF / Local | J17: IF / Local | K17: IF / Local | L17: IF / Local | M17: IF / Local | N17: IF / Local | O17: IF / Local | P17: IF / Local | Q17: IF / Local | R17: IF / Local
D18: Part No. | F18: Parts Description | I18: Quantity / Container | J18: Quantity / Container | K18: Quantity / Container | L18: Quantity / Container | M18: Quantity / Container | N18: Quantity / Container | O18: Quantity / Container | P18: Quantity / Container | Q18: Quantity / Container | R18: Quantity / Container
D19: PWWASH | F19: Pressure Washing Cleaner (Enter qty 1 per container) | H19: H
D20: PDO603 | F20: Roll Door 45 degree Latch | H20: L
D21: PG5002X | F21: Manus Adhesive (1/4 Tube) | H21: L
D22: PG5017 | F22: Wall Post Bolt (Back) (Gen 5)
D23: PG5019 | F23: Lock Washer For Wall Post Bolt (Gen 5)
D24: PG5057 | F24: D-Ring Bolt (Gen5)
D25: PG5066 | F25: Skid Pad (Right Side)
D26: PG5067 | F26: Skid Pad (Left Side)
D27: PG5078 | F27: Patch Heat Strip
D28: PG5082 | F28: Window Plug (Qty 1) (GEN 5)
D29: PG6001 | F29: Hucktainer Sleeve | H29: L
D30: PG6001C | F30: Hucktainer Pin | H30: L
D31: PG6005 | F31: Floor Self Tapping Screw (Gen 5 & 6)
D32: PG6017 | F32: Side Wall Decal Large (Gen 5 & 6) 16'
D33: PG6019A | F33: Vent Assembly Aluminum (Gen 5 & 6)
D34: PG6020A | F34: Vent Assembly Gasket (Gen 5 & 6)
D35: PG6021 | F35: D-Ring Mounting Bracket (Gen 5 & 6)
D36: PG6023 | F36: Wall Post Top Bolt (Gen 6), Top & Bottom (Side Post) (Gen 5) | H36: L
D37: PG6026 | F37: Flat Washer for Wall Post Bolt (Gen 5 & 6) | H37: L
D38: PG6028 | F38: D-Ring (Gen 5 & 6) | H38: L
D39: PG6038 | F39: Door Hanger Bracket (Gen 6) | H39: L
D40: PG6040 | F40: Door Track Left (Gen 6) | H40: L
...

Sheet Steel Roof Form
A1: Steel Roof Addition Form
A4: Market #: | D4: Market Name:
A6: Warehouse:
A8: Submitted by:
A10: Contact Phone #:
A12: Please submit this form to Asset Management within a week after putting on the Steel Roof.
B14: Container ID: | C14: Container Serial #: | D14: Roof #: | E14: Date Installed:
A15: Line 1:
A17: Line 2:
A19: Line 3:
A21: Line 4:
A23: Line 5:
A25: Line 6:
A27: Line 7:
A29: Line 8:
A31: Line 9:
A33: Line 10:
A35: Line 11:
A37: Line 12:
... A53: Line 20:

Sheet Gen_5_List
A1: Container number | B1: Container or Lift serial number | C1: Model | D1: Container size
A2: 49383BX | B2: 161403J5911 | C2: Gen 5 | D2: 16
A3: 49334BX | B3: 161403J5912 | C3: Gen 5 | D3: 16
A4: 49344BX | B4: 161403J5913 | C4: Gen 5 | D4: 16
A5: 49315BX | B5: 161403J5914 | C5: Gen 5 | D5: 16
A6: 49346BX | B6: 161403J5915 | C6: Gen 5 | D6: 16
A7: 49390BX | B7: 161403J5916 | C7: Gen 5 | D7: 16
A8: 49388BX | B8: 161403J5917 | C8: Gen 5 | D8: 16
A9: 49394BX | B9: 161403J5918 | C9: Gen 5 | D9: 16
A10: 49343BX | B10: 161403J5919 | C10: Gen 5 | D10: 16
A11: 49330BX | B11: 161403J5920 | C11: Gen 5 | D11: 16
A12: 49347BX | B12: 161403J5921 | C12: Gen 5 | D12: 16
A13: 49301BX | B13: 161403J5922 | C13: Gen 5 | D13: 16
... A5966: 48971BX | B5966: 161403J5100 | C5966: Gen 5 | D5966: 16

Sheet Sheet1
C1: Labor
A2: 1 | C2: 15
A3: 2 | C3: =C2+15 -> 30
A4: 3 | C4: =C3+15 -> 45
A5: 4 | C5: =C4+15 -> 60
A6: 5 | C6: =C5+15 -> 75
A7: 6 | C7: =C6+15 -> 90
A8: 7 | C8: =C7+15 -> 105
A9: 8 | C9: =C8+15 -> 120
A10: 9 | C10: =C9+15 -> 135
A11: 10 | C11: =C10+15 -> 150
A12: 11 | C12: =C11+15 -> 165
A13: 12 | C13: =C12+15 -> 180
A14: 13 | C14: =C13+15 -> 195
... A17: 16 | C17: =C16+15 -> 240
A18: 17
A19: 18
A20: 19
A21: 20
A22: 21
A23: 22
A24: 23
A25: 24
A26: 25
A27: 26
A28: 27
A29: 28
... A191: 190

Sheet Sheet2
A2: 46023 | C2: Empty | E2: 1 | F2: Tampa Bay, FL | G2: TBAY | H2: Southeast | J2: Forest Park-GA-STR-1 | L2: AAG2 | M2: Forest Park-GA-STR-1 | N2: AAG2 | P2: AAG2-00 | Q2: Forest Park-GA-STR-1 | R2: AAG2-00 | U2: Market ID | V2: Local Customer Acccount
A3: 46024 | C3: Full | E3: 2 | F3: Sarasota, FL | G3: SARA | H3: Southeast | J3: Cumming-GA-STG-1 | L3: AAG21 | M3: Cumming-GA-STG-1 | N3: AAG21 | P3: AAG2-00T | Q3: Forest Park-GA-STR-1 | R3: AAG2-00T | U3: 1 | V3: 000000001
A4: 46025 | E4: 3 | F4: South Florida | G4: SOFL | H4: Southeast | J4: Athens-GA-STG-1 | L4: AAG23 | M4: Athens-GA-STG-1 | N4: AAG23 | P4: AAG21-00 | Q4: Cumming-GA-STG-1 | R4: AAG21-00 | U4: 2 | V4: 000000002
A5: 46026 | C5: Market Manager | D5: MM | E5: 4 | F5: Orlando, FL | G5: ORLA | H5: Southeast | J5: Mcdonough-GA-STG-1 | L5: AAG24 | M5: Mcdonough-GA-STG-1 | N5: AAG24 | P5: AAG21-00T | Q5: Cumming-GA-STG-1 | R5: AAG21-00T | U5: 3 | V5: 000000003
A6: 46027 | C6: Assistant Market Managet | D6: AMM | E6: 5 | F6: Minneapolis, MN | G6: MINN | H6: Central | J6: Atlanta-GA-STR-1 | L6: AAG27 | M6: Atlanta-GA-STR-1 | N6: AAG27 | P6: AAG23-00 | Q6: Athens-GA-STG-1 | R6: AAG23-00 | U6: 4 | V6: 000001004
A7: 46028 | C7: Container Repair Tech | D7: CRT | E7: 6 | F7: Charlotte, NC | G7: CHRL | H7: Southeast | J7: Alpharetta-GA-OVRFL-1 | L7: AAG31 | M7: Alpharetta-GA-OVRFL-1 | N7: AAG31 | P7: AAG23-00T | Q7: Athens-GA-STG-1 | R7: AAG23-00T | U7: 5 | V7: 000001005
A8: 46029 | C8: Driver | D8: Driver | E8: 7 | F8: Indianapolis, IN | G8: INDY | H8: Z | J8: Marietta-GA-OVRFL-1 | L8: AAG32 | M8: Marietta-GA-OVRFL-1 | N8: AAG32 | P8: AAG24-00 | Q8: Mcdonough-GA-STG-1 | R8: AAG24-00 | U8: 6 | V8: 000001106
A9: 46030 | C9: Storage Center Worker | D9: EMT | E9: 8 | F9: Cincinnati, OH | G9: CINC | H9: Northeast | J9: Stone Mountain-GA-OVRFL-1 | L9: AAG33 | M9: Stone Mountain-GA-OVRFL-1 | N9: AAG33 | P9: AAG24-00T | Q9: Mcdonough-GA-STG-1 | R9: AAG24-00T | U9: 7 | V9: 000000007
A10: 46031 | D10: SCW | E10: 9 | F10: PODS-US | G10: PEIU | H10: Z | J10: Covington-GA-STG-1 | L10: AAG34 | M10: Covington-GA-STG-1 | N10: AAG34 | P10: AAG27-00 | Q10: Atlanta-GA-STR-1 | R10: AAG27-00 | U10: 8 | V10: 000001008
A11: 46032 | C11: Light Repair | D11: Nirro | E11: 10 | F11: Daytona, FL | G11: DAYT | H11: Southeast | J11: McDonough-GA-STG-2 | L11: AAG35 | M11: McDonough-GA-STG-2 | N11: AAG35 | P11: AAG27-00T | Q11: Atlanta-GA-STR-1 | R11: AAG27-00T | U11: 9 | V11: 000000009
A12: 46033 | C12: Heavy Repair | D12: Temp | E12: 11 | F12: Jacksonville, FL | G12: JACV | H12: Southeast | J12: Suwanee-GA-STR-1 | L12: AAG5 | M12: Suwanee-GA-STR-1 | N12: AAG5 | P12: AAG31-00 | Q12: Alpharetta-GA-OVRFL-1 | R12: AAG31-00 | U12: 10 | V12: 000001010
A13: 46034 | E13: 12 | F13: Melbourne, FL | G13: MELB | H13: Southeast | J13: Newnan-GA-STG-1 | L13: AAG8 | M13: Newnan-GA-STG-1 | N13: AAG8 | P13: AAG31-00T | Q13: Alpharetta-GA-OVRFL-1 | R13: AAG31-00T | U13: 11 | V13: 000001011
A14: 46035 | C14: Confirmed | E14: 13 | F14: General | G14: 0000 | H14: Z | J14: Newman-GA-STG-2 | L14: AAG9 | M14: Newman-GA-STG-2 | N14: AAG9 | P14: AAG32-00 | Q14: Marietta-GA-OVRFL-1 | R14: AAG32-00 | U14: 12 | V14: 000001012
A15: 46036 | E15: 14 | F15: St. Louis, MO | G15: STLO | H15: Central | J15: Albuquerque-NM-STR-1 | L15: ABQ | M15: Albuquerque-NM-STR-1 | N15: ABQ | P15: AAG32-00T | Q15: Marietta-GA-OVRFL-1 | R15: AAG32-00T | U15: 14 | V15: 000001014
A16: 46037 | E16: 15 | F16: Raleigh, NC | G16: RALE | H16: Southeast | J16: Santa Fe-NM-STG-1 | L16: ABQ2 | M16: Santa Fe-NM-STG-1 | N16: ABQ2 | P16: AAG33-00 | Q16: Stone Mountain-GA-OVRFL-1 | R16: AAG33-00 | U16: 15 | V16: 000001015
A17: 46038 | C17: 15 minutes | E17: 16 | F17: Nashville, TN | G17: NASH | H17: Central | J17: Santa Fe-NM-STR-1 | L17: ABQ3 | M17: Santa Fe-NM-STR-1 | N17: ABQ3 | P17: AAG33-00T | Q17: Stone Mountain-GA-OVRFL-1 | R17: AAG33-00T | U17: 16 | V17: 000001016
A18: 46039 | C18: 30 minutes | E18: 20 | F18: Dallas, TX | G18: DALL | H18: Central | J18: Clearwater-FL-ADMIN-1 | L18: ADMIN | M18: Clearwater-FL-ADMIN-1 | N18: ADMIN | P18: AAG34-00 | Q18: Covington-GA-STG-1 | R18: AAG34-00 | U18: 20 | V18: 000000020
A19: 46040 | C19: 45 minutes | E19: 21 | F19: Atlanta NW, GA | G19: ATLW | H19: Southeast | J19: Guilderland Ctr-NY-STR-1 | L19: ALB6 | M19: Guilderland Ctr-NY-STR-1 | N19: ALB6 | P19: AAG34-00T | Q19: Covington-GA-STG-1 | R19: AAG34-00T | U19: 21 | V19: 000001021
A20: 46041 | C20: 1 hour | E20: 22 | F20: Charleston, SC | G20: CHAR | H20: Southeast | J20: Saratoga Springs-NY-STG-1 | L20: ALB7 | M20: Saratoga Springs-NY-STG-1 | N20: ALB7 | P20: AAG35-00 | Q20: McDonough-GA-STG-2 | R20: AAG35-00 | U20: 22 | V20: 000001022
A21: 46042 | C21: 1.25 hours | E21: 23 | F21: Jackson, MS | G21: JACK | H21: Central | J21: Saratoga Springs-NY-STR-1 | L21: ALB8 | M21: Saratoga Springs-NY-STR-1 | N21: ALB8 | P21: AAG35-00T | Q21: McDonough-GA-STG-2 | R21: AAG35-00T | U21: 23 | V21: 000001123
A22: 46043 | C22: 1.5 hours | E22: 24 | F22: Columbus, OH | G22: COLO | H22: Z | J22: Queensbury-NY-STG-1 | L22: ALB9 | M22: Queensbury-NY-STG-1 | N22: ALB9 | P22: AAG5-00 | Q22: Suwanee-GA-STR-1 | R22: AAG5-00 | U22: 24 | V22: 000000024
A23: 46044 | C23: 1.75 hours | E23: 25 | F23: Kansas City, MO-KS | G23: KANS | H23: Z | J23: Alexandria-LA-STR-1 | L23: ALEX | M23: Alexandria-LA-STR-1 | N23: ALEX | P23: AAG5-00T | Q23: Suwanee-GA-STR-1 | R23: AAG5-00T | U23: 25 | V23: 000000025
A24: 46045 | C24: 2 hours | E24: 26 | F24: Chicago, IL | G24: CHIC | H24: Central | J24: Leesville-LA-STR-1 | L24: ALEX2 | M24: Leesville-LA-STR-1 | N24: ALEX2 | P24: AAG8-00 | Q24: Newnan-GA-STG-1 | R24: AAG8-00 | U24: 26 | V24: 000000026
A25: 46046 | C25: 2.25 hours | E25: 27 | F25: Virginia Beach, VA | G25: VBCH | H25: Southeast | J25: Asheville-NC-STG-1 | L25: ASH01 | M25: Asheville-NC-STG-1 | N25: ASH01 | P25: AAG8-00T | Q25: Newnan-GA-STG-1 | R25: AAG8-00T | U25: 27 | V25: 000001027
A26: 46047 | C26: 2.5 hours | E26: 28 | F26: Richmond, VA | G26: RICH | H26: Southeast | J26: Asheville-NC-STR-1 | L26: ASH1 | M26: Asheville-NC-STR-1 | N26: ASH1 | P26: AAG9-00 | Q26: Newman-GA-STG-2 | R26: AAG9-00 | U26: 28 | V26: 000001028
A27: 46048 | C27: 2.75 hours | E27: 29 | F27: Atlanta NE, GA | G27: ATLN | H27: Southeast | J27: Hendersonville-NC-STR-1 | L27: ASH4 | M27: Hendersonville-NC-STR-1 | N27: ASH4 | P27: AAG9-00T | Q27: Newman-GA-STG-2 | R27: AAG9-00T | U27: 29 | V27: 000001129
A28: 46049 | C28: 3 hours | E28: 32 | F28: Birmingham, AL | G28: BIRM | H28: Central | J28: Mills River-NC-STR-1 | L28: ASH5 | M28: Mills River-NC-STR-1 | N28: ASH5 | P28: ABQ-00 | Q28: Albuquerque-NM-STR-1 | R28: ABQ-00 | U28: 32 | V28: 000000032
... A66: 46087 | C66: 12.5 hours | E66: 73 | F66: Tulsa, OK | G66: TULS | H66: Central | J66: Bakersfield-CA-STR-1 | L66: BKF3 | M66: Bakersfield-CA-STR-1 | N66: BKF3 | P66: ATLNW6-00T | Q66: Forest Park-GA-STG-1 | R66: ATLNW6-00T | U66: 73 | V66: 000001073
A67: 46088 | E67: 74 | F67: Oklahoma City, OK | G67: OKLA | H67: Central | J67: Bakersfield-CA-STR-2 | L67: BKF4 | M67: Bakersfield-CA-STR-2 | N67: BKF4 | P67: ATLNW7-00 | Q67: Kennesaw-GA-STR-1 | R67: ATLNW7-00 | U67: 74 | V67: 000001074
A68: 46089 | E68: 75 | F68: Peoria, IL | G68: PEOR | H68: Central | J68: Mojave-CA-STG-1 | L68: BKF5 | M68: Mojave-CA-STG-1 | N68: BKF5 | P68: ATLNW7-00T | Q68: Kennesaw-GA-STR-1 | R68: ATLNW7-00T | U68: 75 | V68: 000001175
A69: 46090 | E69: 76 | F69: Omaha, NE | G69: OMAH | H69: Z | J69: Nampa-ID-STG-1 | L69: BOI4 | M69: Nampa-ID-STG-1 | N69: BOI4 | P69: ATLNW8-00 | Q69: Alpharetta-GA-OVRFL-2 | R69: ATLNW8-00 | U69: 76 | V69: 000000076
A70: 46091 | E70: 77 | F70: Northern New Jersey, NJ | G70: NORJ | H70: Northeast | J70: Boise-ID-STR-1 | L70: BOI6 | M70: Boise-ID-STR-1 | N70: BOI6 | P70: ATLNW8-00T | Q70: Alpharetta-GA-OVRFL-2 | R70: ATLNW8-00T | U70: 77 | V70: 000001077
A71: 46092 | E71: 78 | F71: Salt Lake City, UT | G71: SALT | H71: Central | J71: Caldwell-ID-STR-1 | L71: BOI7 | M71: Caldwell-ID-STR-1 | N71: BOI7 | P71: ATLNW9-00 | Q71: Marietta-GA-OVRFL-2 | R71: ATLNW9-00 | U71: 78 | V71: 000011178
A72: 46093 | E72: 79 | F72: Albuquerque - Santa Fe, NM | G72: ALBQ | H72: Central | J72: Boise-ID-STR-2 | L72: BOI8 | M72: Boise-ID-STR-2 | N72: BOI8 | P72: ATLNW9-00T | Q72: Marietta-GA-OVRFL-2 | R72: ATLNW9-00T | U72: 79 | V72: 000001179
A73: 46094 | E73: 81 | F73: Stockton-Modesto, CA | G73: STOC | H73: West | J73: North Dartmouth-MA-STG-1 | L73: BOSN11 | M73: North Dartmouth-MA-STG-1 | N73: BOSN11 | P73: ATNW10-00 | Q73: Stone Mountain-GA-OVRFL-2 | R73: ATNW10-00 | U73: 81 | V73: 000001181
A74: 46095 | E74: 82 | F74: Fresno, CA | G74: FRNO | H74: West | J74: Kingston-MA-STG-1 | L74: BOSN15 | M74: Kingston-MA-STG-1 | N74: BOSN15 | P74: ATNW10-00T | Q74: Stone Mountain-GA-OVRFL-2 | R74: ATNW10-00T | U74: 82 | V74: 000001182
A75: 46096 | E75: 84 | F75: Bakersfield, CA | G75: BAKE | H75: West | J75: Norwood-MA-STR-1 | L75: BOSN18 | M75: Norwood-MA-STR-1 | N75: BOSN18 | P75: AUG-00 | Q75: Augusta-GA-STR-1 | R75: AUG-00 | U75: 84 | V75: 000001184
A76: 46097 | E76: 86 | F76: Boise, ID | G76: BOIS | H76: West | J76: Auburn-MA-STG-1 | L76: BOSN2 | M76: Auburn-MA-STG-1 | N76: BOSN2 | P76: AUG-00T | Q76: Augusta-GA-STR-1 | R76: AUG-00T | U76: 86 | V76: 000001186
A77: 46098 | E77: 87 | F77: Sacramento, CA | G77: SACR | H77: West | J77: Dover-NH-STG-1 | L77: BOSN20 | M77: Dover-NH-STG-1 | N77: BOSN20 | P77: AURORA-00 | Q77: Aurora-CO-STR-1 | R77: AURORA-00 | U77: 87 | V77: 000001187
A78: 46099 | E78: 88 | F78: Spokane, WA | G78: SPOK | H78: West | J78: Taunton-MA-STR-1 | L78: BOSN21 | M78: Taunton-MA-STR-1 | N78: BOSN21 | P78: AURORA-00T | Q78: Aurora-CO-STR-1 | R78: AURORA-00T | U78: 88 | V78: 000001188
...

Sheet Market Listing
A1: Franchisee | C1: Master Franchisee List
A3: 44813
A6: RBMS Market # | B6: PODS Market Name | C6: Market Legal Name | D6: Corp?
A7: 1 | B7: Tampa Bay, FL | C7: PODS Enterprises, LLC | D7: Yes | E7: Corp. Ops.
A8: 2 | B8: Sarasota, FL | C8: PODS Enterprises, LLC | D8: Yes | E8: Corp. Ops.
A9: 3 | B9: South Florida | C9: PODS Enterprises, LLC | D9: Yes | E9: Corp. Ops.
A10: 4 | B10: Orlando, FL | C10: PODS Enterprises, LLC | D10: Yes | E10: Corp. Ops.
A11: 5 | B11: Minneapolis, MN | C11: PODS Enterprises, LLC | D11: Yes | E11: Corp. Ops.
A12: 6 | B12: Charlotte, NC | C12: PODS Enterprises, LLC | D12: Yes | E12: Corp. Ops.
A13: 7 | B13: Indianapolis, IN | C13: Portable Storage, Inc. | D13: Fran | E13: Franchisee
A14: 8 | B14: Greater Cincinnati | C14: PODS Enterprises, LLC | D14: Yes | E14: Corp. Ops.
A15: 9 | B15: PODS Inter-Franchise | C15: PODS IF - (Type in Hub Location) | D15: Yes | E15: Corp. Ops.
A16: 10 | B16: Daytona, FL | C16: PODS Enterprises, LLC | D16: Yes | E16: Corp. Ops.
A17: 11 | B17: Jacksonville, FL | C17: PODS Enterprises, LLC | D17: Yes | E17: Corp. Ops.
A18: 12 | B18: Melbourne, FL | C18: PODS Enterprises, LLC | D18: Yes | E18: Corp. Ops.
... A151: 183 | B151: Quad Cities | C151: PODS Enterprises, LLC | D151: Yes | E151: Corp. Ops.
A152: (Type in Market #) | B152: (Auto-populates after Mkt # is entered) | C152: (Auto-populates after Mkt # is entered)

Sheet Locations
A1: [GL Location Id] | B1: [GL Location Name] | C1: [Site Id] | D1: [Site Name] | E1: [Site Street] | F1: [Site City] | G1: [Site State] | H1: [Site Zip Code] | I1: [Site County] | J1: [Site Country] | K1: [Site Market Id] | L1: [Site Active Flag] | M1: [Site Corporate Flag] | N1: [Site Parent Id] | O1: [Site Parent Name] | P1: [Site Market Code] | Q1: [Site Market Name] | R1: [Site Territory Manager Id] | S1: [Site Territory Manager Name] | T1: [Site Region Id] | U1: [Site Region Name] | V1: [Site Territory Name] | W1: [Site Territory Id] | X1: [GL Site Status Id] | Y1: [Site Type Desc] | Z1: [Site Status Desc] | AA1: [Site Size Sq Ft] | AB1: [Site Term Date] | AC1: [Site Sublease Size Sq Ft] | AD1: [Long Haul Region Code] | AE1: [Long Haul Region Name] | AF1: [RBMS Local Timezone offset] | AG1: [Site Level Limit Indicator] | AH1: [Market Size] | AI1: [Site] | AJ1: [Site Parent] | AK1: [Site Market] | AL1: [Driver Training GL Location Id] | AM1: [Driver Training GL Site Id] | AN1: [Driver Training Site City] | AO1: [Site Sublease Term Date] | AP1: [Pricing Region Name] | AQ1: [Site Market Latitude] | AR1: [Site Market Longitude]
A2: JS05 | B2: Mays Landing-Nj-Str-1 | C2: ENJ8 | D2: Mays Landing-Nj-Str-1 | E2: 45 Mill Street | F2: Mays Landing | G2: NJ | H2: 08330 | I2: Atlantic | J2: USA | K2: 107 | L2: false | M2: true | N2: ENJ9 | O2: Farmingdale-NJ-STR-1 | P2: NEWJ | Q2: Jersey Shore, NJ | R2: TBD | S2: Keith Clemens | T2: 2 | U2: Northeast | V2: New Jersey | W2: 25 | X2: Closing FPnA | Y2: Storage | Z2: Closing FPnA | AD2: NE | AE2: North East | AF2: 0 | AG2: TRUE | AH2: SMALL | AI2: ENJ8 : Mays Landing-Nj-Str-1 : 45 Mill Street | AJ2: Parent ENJ9 : Farmingdale-NJ-STR-1 | AK2: NEWJ : Jersey Shore, NJ | AP2: Northeast | AQ2: 40.18701 | AR2: -74.162566
A3: -1 : ALBA | B3: Site Market: Albany, NY | C3: -1 : ALBA | D3: Site Market: Albany, NY | G3: NY | H3: 12085-7703 | J3: USA | K3: 89 | L3: true | M3: true | N3: ALB6 | O3: Guilderland Ctr-NY-STR-1 | P3: ALBA | Q3: Albany, NY | R3: TBD | S3: Chad Goodness | T3: 2 | U3: Northeast | V3: NY Upstate | W3: 22 | X3: Active | Y3: Dummy Record - Storage | Z3: Dummy Record | AA3: 0 | AB3: 401768 | AC3: 0 | AD3: NE | AE3: North East | AF3: 0 | AG3: FALSE | AH3: SMALL | AI3: -1 : ALBA : Site Market: Albany, NY : | AJ3: Parent ALB6 : Guilderland Ctr-NY-STR-1 | AK3: ALBA : Albany, NY | AO3: 401768 | AP3: Northeast | AQ3: 42.690056 | AR3: -73.957626
A4: -1 : ALBQ | B4: Site Market: Albuquerque - Santa Fe, NM | C4: -1 : ALBQ | D4: Site Market: Albuquerque - Santa Fe, NM | G4: NM | H4: 87501 | J4: USA | K4: 79 | L4: true | M4: true | N4: ABQ | O4: Albuquerque-NM-STR-1 | P4: ALBQ | Q4: Albuquerque - Santa Fe, NM | R4: TBD | S4: Anthony Virtue | T4: 10 | U4: Central | V4: Mountain | W4: 51 | X4: Active | Y4: Dummy Record - Storage | Z4: Dummy Record | AA4: 0 | AB4: 401768 | AC4: 0 | AD4: TX | AE4: Texas | AF4: -2 | AG4: TRUE | AH4: MED | AI4: -1 : ALBQ : Site Market: Albuquerque - Santa Fe, NM : | AJ4: Parent ABQ : Albuquerque-NM-STR-1 | AK4: ALBQ : Albuquerque - Santa Fe, NM | AO4: 401768 | AP4: Mountain | AQ4: 35.057713 | AR4: -106.63887
A5: -1 : ALEX | B5: Site Market: Alexandria, LA | C5: -1 : ALEX | D5: Site Market: Alexandria, LA | G5: LA | H5: 71446 | J5: USA | K5: 169 | L5: true | M5: false | N5: ALEX2 | O5: Leesville-LA-STR-1 | P5: ALEX | Q5: Alexandria, LA | R5: TBD | S5: Joseph Carlo II | T5: 7 | U5: Z | V5: Franchise | W5: 71 | X5: Active | Y5: Dummy Record - Storage | Z5: Dummy Record | AA5: 0 | AB5: 401768 | AC5: 0 | AD5: MS | AE5: Mississippi | AF5: -1 | AG5: FALSE | AH5: LG | AI5: -1 : ALEX : Site Market: Alexandria, LA : | AJ5: Parent ALEX2 : Leesville-LA-STR-1 | AK5: ALEX : Alexandria, LA | AO5: 401768 | AP5: Southeast | AQ5: 31.28287 | AR5: -92.53797
A6: -1 : ASHE | B6: Site Market: Asheville, NC | C6: -1 : ASHE | D6: Site Market: Asheville, NC | G6: NC | H6: 28759 | J6: USA | K6: 176 | L6: true | M6: true | N6: ASH5 | O6: Mills River-NC-STR-1 | P6: ASHE | Q6: Asheville, NC | R6: TBD | S6: Jerome Preston | T6: 1 | U6: Southeast | V6: Inland Carolinas | W6: 12 | X6: Active | Y6: Dummy Record - Storage | Z6: Dummy Record | AA6: 0 | AB6: 401768 | AC6: 0 | AD6: SE | AE6: South East | AF6: 0 | AG6: FALSE | AH6: SMALL | AI6: -1 : ASHE : Site Market: Asheville, NC : | AJ6: Parent ASH5 : Mills River-NC-STR-1 | AK6: ASHE : Asheville, NC | AO6: 401768 | AP6: Southeast | AQ6: 35.425924 | AR6: -82.554208
A7: -1 : ASTN | B7: Site Market: Austin, TX | C7: -1 : ASTN | D7: Site Market: Austin, TX | G7: TX | H7: 78666 | J7: USA | K7: 35 | L7: true | M7: true | N7: AUS7 | O7: San Marcos-TX-STR-1 | P7: ASTN | Q7: Austin, TX | R7: TBD | S7: Greg Payne | T7: 10 | U7: Central | V7: Southwest TX | W7: 53 | X7: Active | Y7: Dummy Record - Storage | Z7: Dummy Record | AA7: 0 | AB7: 401768 | AC7: 0 | AD7: TX | AE7: Texas | AF7: -1 | AG7: TRUE | AH7: LG | AI7: -1 : ASTN : Site Market: Austin, TX : | AJ7: Parent AUS7 : San Marcos-TX-STR-1 | AK7: ASTN : Austin, TX | AO7: 401768 | AP7: Greater Texas | AQ7: 30.148928 | AR7: -97.651072
A8: -1 : ATLN | B8: Site Market: Atlanta NE, GA | C8: -1 : ATLN | D8: Site Market: Atlanta NE, GA | G8: GA | H8: 30344 | J8: USA | K8: 29 | L8: true | M8: true | N8: AAG5 | O8: Suwanee-GA-STR-1 | P8: ATLN | Q8: Atlanta NE, GA | R8: TBD | S8: Ricky Pettigrew | T8: 1 | U8: Southeast | V8: Georgia | W8: 11 | X8: Active | Y8: Dummy Record - Storage | Z8: Dummy Record | AA8: 0 | AB8: 401768 | AC8: 0 | AD8: SE | AE8: South East | AF8: 0 | AG8: TRUE | AH8: XL | AI8: -1 : ATLN : Site Market: Atlanta NE, GA : | AJ8: Parent AAG5 : Suwanee-GA-STR-1 | AK8: ATLN : Atlanta NE, GA | AO8: 401768 | AP8: Southeast | AQ8: 33.697028 | AR8: -84.440175
A9: -1 : ATLW | B9: Site Market: Atlanta NW, GA | C9: -1 : ATLW | D9: Site Market: Atlanta NW, GA | G9: GA | H9: 30144 | J9: USA | K9: 21 | L9: true | M9: true | N9: ATLNW7 | O9: Powder Springs-GA-STR-1 | P9: ATLW | Q9: Atlanta NW, GA | R9: TBD | S9: Ricky Pettigrew | T9: 1 | U9: Southeast | V9: Georgia | W9: 11 | X9: Active | Y9: Dummy Record - Storage | Z9: Dummy Record | AA9: 0 | AB9: 401768 | AC9: 0 | AD9: SE | AE9: South East | AF9: 0 | AG9: FALSE | AH9: MED | AI9: -1 : ATLW : Site Market: Atlanta NW, GA : | AJ9: Parent ATLNW7 : Powder Springs-GA-STR-1 | AK9: ATLW : Atlanta NW, GA | AO9: 401768 | AP9: Southeast | AQ9: 34.045555 | AR9: -84.61081
A10: -1 : AUGU | B10: Site Market: Augusta, GA | C10: -1 : AUGU | D10: Site Market: Augusta, GA | G10: GA | H10: 30909 | J10: USA | K10: 125 | L10: true | M10: true | N10: AUG | O10: Augusta-GA-STR-1 | P10: AUGU | Q10: Augusta, GA | R10: TBD | S10: John Schlueter | T10: 1 | U10: Southeast | V10: Coastal Carolina | W10: 10 | X10: Active | Y10: Dummy Record - Storage | Z10: Dummy Record | AA10: 0 | AB10: 401768 | AC10: 0 | AD10: SE | AE10: South East | AF10: 0 | AG10: FALSE | AH10: SMALL | AI10: -1 : AUGU : Site Market: Augusta, GA : | AJ10: Parent AUG : Augusta-GA-STR-1 | AK10: AUGU : Augusta, GA | AO10: 401768 | AP10: Southeast | AQ10: 33.444229 | AR10: -82.068839
A11: -1 : BAKE | B11: Site Market: Bakersfield, CA | C11: -1 : BAKE | D11: Site Market: Bakersfield, CA | G11: CA | H11: 93313-2121 | J11: USA | K11: 84 | L11: true | M11: true | N11: BKF4 | O11: Bakersfield-CA-STR-2 | P11: BAKE | Q11: Bakersfield, CA | R11: TBD | S11: Nik Sorenson | T11: 4 | U11: West | V11: Greater Los Angeles | W11: 45 | X11: Active | Y11: Dummy Record - Storage | Z11: Dummy Record | AA11: 0 | AB11: 401768 | AC11: 0 | AD11: SW | AE11: South West | AF11: -3 | AG11: FALSE | AH11: XS | AI11: -1 : BAKE : Site Market: Bakersfield, CA : | AJ11: Parent BKF4 : Bakersfield-CA-STR-2 | AK11: BAKE : Bakersfield, CA | AO11: 401768 | AP11: California | AQ11: 35.31601 | AR11: -119.08029
A12: -1 : BALT | B12: Site Market: Baltimore, MD | C12: -1 : BALT | D12: Site Market: Baltimore, MD | G12: MD | H12: 21220 | J12: USA | K12: 41 | L12: true | M12: true | N12: BAL8 | O12: Middle River-MD-STR-1 | P12: BALT | Q12: Baltimore, MD | R12: TBD | S12: Don Pallante | T12: 2 | U12: Northeast | V12: Mid Atlantic | W12: 20 | X12: Active | Y12: Dummy Record - Storage | Z12: Dummy Record | AA12: 0 | AB12: 401768 | AC12: 0 | AD12: NE | AE12: North East | AF12: 0 | AG12: TRUE | AH12: MED | AI12: -1 : BALT : Site Market: Baltimore, MD : | AJ12: Parent BAL8 : Middle River-MD-STR-1 | AK12: BALT : Baltimore, MD | AO12: 401768 | AP12: Northeast | AQ12: 39.176373 | AR12: -76.771542
A13: -1 : BEAU | B13: Site Market: Beaumont, TX | C13: -1 : BEAU | D13: Site Market: Beaumont, TX | G13: TX | H13: 77705 | J13: USA | K13: 147 | L13: true | M13: true | N13: BEAU | O13: Beaumont-TX-STR-1 | P13: BEAU | Q13: Beaumont, TX | R13: TBD | S13: Timothy R Preston | T13: 10 | U13: Central | V13: TX Gulf Coast | W13: 54 | X13: Active | Y13: Dummy Record - Storage | Z13: Dummy Record | AA13: 0 | AB13: 401768 | AC13: 0 | AD13: TX | AE13: Texas | AF13: -1 | AG13: FALSE | AH13: XS | AI13: -1 : BEAU : Site Market: Beaumont, TX : | AJ13: Parent BEAU : Beaumont-TX-STR-1 | AK13: BEAU : Beaumont, TX | AO13: 401768 | AP13: Greater Texas | AQ13: 30.044903 | AR13: -94.151368
A14: -1 : BETH | B14: Site Market: Bethlehem, PA | C14: -1 : BETH | D14: Site Market: Bethlehem, PA | G14: PA | H14: 18104-9038 | J14: USA | K14: 135 | L14: true | M14: true | N14: BETH5 | O14: Allentown-PA-STR-1 | P14: BETH | Q14: Bethlehem, PA | R14: TBD | S14: Don Pallante | T14: 2 | U14: Northeast | V14: Mid Atlantic | W14: 20 | X14: Active | Y14: Dummy Record - Storage | Z14: Dummy Record | AA14: 0 | AB14: 401768 | AC14: 0 | AD14: NE | AE14: North East | AF14: 0 | AG14: FALSE | AH14: MED | AI14: -1 : BETH : Site Market: Bethlehem, PA : | AJ14: Parent BETH5 : Allentown-PA-STR-1 | AK14: BETH : Bethlehem, PA | AO14: 401768 | AP14: Northeast | AQ14: 40.602497 | AR14: -75.575774
... A94: -1 : PASO | B94: Site Market: El Paso, TX | C94: -1 : PASO | D94: Site Market: El Paso, TX | G94: TX | H94: 79936-2502 | J94: USA | K94: 101 | L94: true | M94: true | N94: ELP5 | O94: El Paso-TX-STR-2 | P94: PASO | Q94: El Paso, TX | R94: TBD | S94: Anthony Virtue | T94: 10 | U94: Central | V94: Mountain | W94: 51 | X94: Active | Y94: Dummy Record - Storage | Z94: Dummy Record | AA94: 0 | AB94: 401768 | AC94: 0 | AD94: TX | AE94: Texas | AF94: -2 | AG94: FALSE | AH94: SMALL | AI94: -1 : PASO : Site Market: El Paso, TX : | AJ94: Parent ELP5 : El Paso-TX-STR-2 | AK94: PASO : El Paso, TX | AO94: 401768 | AP94: Greater Texas | AQ94: 31.818922 | AR94: -106.38211
A95: -1 : PEIU | B95: Site Market: PODS-US | C95: -1 : PEIU | D95: Site Market: PODS-US | G95: CA | H95: 95742 | J95: USA | K95: 13 | L95: true | M95: true | N95: MREP | O95: Rancho Cordova-CA-STR-1 | P95: PEIU | Q95: PODS-US | R95: TBD | S95: Tom Martin | T95: 7 | U95: Z | V95: PODS | W95: 72 | X95: Active | Y95: Dummy Record - Storage | Z95: Dummy Record | AA95: 0 | AB95: 401768 | AC95: 0 | AD95: NW | AE95: North West | AF95: 0 | AG95: FALSE | AH95: LG | AI95: -1 : PEIU : Site Market: PODS-US : | AJ95: Parent MREP : Rancho Cordova-CA-STR-1 | AK95: PEIU : PODS-US | AO95: 401768
A96: -1 : PEOR | B96: Site Market: Peoria, IL | C96: -1 : PEOR | D96: Site Market: Peoria, IL | G96: IL | H96: 61604 | J96: USA | K96: 75 | L96: true | M96: true | N96: PEO5 | O96: Peoria-IL-STR-3 | P96: PEOR | Q96: Peoria, IL | R96: TBD | S96: Scott Paul Mortensen | T96: 10 | U96: Central | V96: Central | W96: 30 | X96: Active | Y96: Dummy Record - Storage | Z96: Dummy Record | AA96: 0 | AB96: 401768 | AC96: 0 | AD96: IL | AE96: Illinois | AF96: -1 | AG96: FALSE | AH96: XS | AI96: -1 : PEOR : Site Market: Peoria, IL : | AJ96: Parent PEO5 : Peoria-IL-STR-3 | AK96: PEOR : Peoria, IL | AO96: 401768 | AP96: Midwest | AQ96: 40.68891 | AR96: -89.70292
A97: -1 : PHIL | B97: Site Market: Philadelphia, PA | C97: -1 : PHIL | D97: Site Market: Philadelphia, PA | G97: NJ | H97: 19720 | J97: USA | K97: 55 | L97: true | M97: true | N97: PHLY9 | O97: New Castle-DE-STR-1 | P97: PHIL | Q97: Philadelphia, PA | R97: TBD | S97: Keith Clemens | T97: 2 | U97: Northeast | V97: New Jersey | W97: 25 | X97: Active | Y97: Dummy Record - Storage | Z97: Dummy Record | AA97: 0 | AB97: 401768 | AC97: 0 | AD97: NE | AE97: North East | AF97: 0 | AG97: TRUE | AH97: LG | AI97: -1 : PHIL : Site Market: Philadelphia, PA : | AJ97: Parent PHLY9 : New Castle-DE-STR-1 | AK97: PHIL : Philadelphia, PA | AO97: 401768 | AP97: Northeast | AQ97: 40.619167 | AR97: -75.519722
A98: -1 : PHNX | B98: Site Market: Phoenix, AZ | C98: -1 : PHNX | D98: Site Market: Phoenix, AZ | G98: AZ | H98: 85353-2844 | J98: USA | K98: 42 | L98: true | M98: false | N98: PHOE8 | O98: Unknown | P98: PHNX | Q98: Phoenix, AZ | R98: TBD | S98: Joseph Carlo II | T98: 7 | U98: Z | V98: Franchise | W98: 71 | X98: Active | Y98: Dummy Record - Storage | Z98: Dummy Record | AA98: 0 | AB98: 401768 | AC98: 0 | AD98: SW | AE98: South West | AF98: -3 | AG98: FALSE | AH98: LG | AI98: -1 : PHNX : Site Market: Phoenix, AZ : | AJ98: Parent PHOE8 : Unknown | AK98: PHNX : Phoenix, AZ | AO98: 401768 | AP98: West Desert | AQ98: 33.438859 | AR98: -112.26255
A99: -1 : PITT | B99: Site Market: Pittsburgh, PA | C99: -1 : PITT | D99: Site Market: Pittsburgh, PA | G99: PA | H99: 15085 | J99: USA | K99: 93 | L99: true | M99: true | N99: PIT9 | O99: Trafford-PA-STR-1 | P99: PITT | Q99: Pittsburgh, PA | R99: TBD | S99: Daniel Cirwinski | T99: 2 | U99: Northeast | V99: Great Lakes | W99: 31 | X99: Active | Y99: Dummy Record - Storage | Z99: Dummy Record | AA99: 0 | AB99: 401768 | AC99: 0 | AD99: OH | AE99: Ohio | AF99: 0 | AG99: TRUE | AH99: MED | AI99: -1 : PITT : Site Market: Pittsburgh, PA : | AJ99: Parent PIT9 : Trafford-PA-STR-1 | AK99: PITT : Pittsburgh, PA | AO99: 401768 | AP99: Northeast | AQ99: 40.564542 | AR99: -80.218181
A100: -1 : PORT | B100: Site Market: Portland, OR | C100: -1 : PORT | D100: Site Market: Portland, OR | G100: OR | H100: 97203 | J100: USA | K100: 51 | L100: true | M100: true | N100: PORT4 | O100: Wilsonville-OR-STR-1 | P100: PORT | Q100: Portland, OR | R100: TBD | S100: DJ Geehan | T100: 4 | U100: West | V100: Pacific Northwest | W100: 43 | X100: Active | Y100: Dummy Record - Storage | Z100: Dummy Record | AA100: 0 | AB100: 401768 | AC100: 0 | AD100: NW | AE100: North West | AF100: -3 | AG100: TRUE | AH100: LG | AI100: -1 : PORT : Site Market: Portland, OR : | AJ100: Parent PORT4 : Wilsonville-OR-STR-1 | AK100: PORT : Portland, OR | AO100: 401768 | AP100: Northwest | AQ100: 45.398207 | AR100: -122.53513
A101: -1 : PROV | B101: Site Market: Providence, RI | C101: -1 : PROV | D101: Site Market: Providence, RI | G101: RI | H101: 02852 | J101: USA | K101: 61 | L101: true | M101: true | N101: PROV3 | O101: North Kingstown-RI-STR-1 | P101: PROV | Q101: Providence, RI | R101: TBD | S101: Christopher Mooney | T101: 2 | U101: Northeast | V101: New England | W101: 24 | X101: Active | Y101: Dummy Record - Storage | Z101: Dummy Record | AA101: 0 | AB101: 401768 | AC101: 0 | AD101: NE | AE101: North East | AF101: 0 | AG101: FALSE | AH101: MED | AI101: -1 : PROV : Site Market: Providence, RI : | AJ101: Parent PROV3 : North Kingstown-RI-STR-1 | AK101: PROV : Providence, RI | AO101: 401768 | AP101: Northeast | AQ101: 41.552525 | AR101: -71.468201
A102: -1 : QUAD | B102: Site Market: Quad Cities | C102: -1 : QUAD | D102: Site Market: Quad Cities | G102: IA | H102: 52806-4367 | J102: USA | K102: 183 | L102: true | M102: true | N102: QC01 | O102: Davenport-Ia-Str-2 | P102: QUAD | Q102: Quad Cities | R102: TBD | S102: Robert Carner | T102: 10 | U102: Central | V102: Upper Midwest | W102: 32 | X102: Active | Y102: Dummy Record - Storage | Z102: Dummy Record | AA102: 0 | AB102: 401768 | AC102: 0 | AD102: MT | AE102: Mountain | AF102: -1 | AG102: TRUE | AH102: XS | AI102: -1 : QUAD : Site Market: Quad Cities : | AJ102: Parent QC01 : Davenport-Ia-Str-2 | AK102: QUAD : Quad Cities | AO102: 401768 | AP102: Midwest | AQ102: 41.61024 | AR102: -90.63755
A103: -1 : RALE | B103: Site Market: Raleigh, NC | C103: -1 : RALE | D103: Site Market: Raleigh, NC | G103: NC | H103: 27617 | J103: USA | K103: 15 | L103: true | M103: true | N103: RAL7 | O103: Raleigh-NC-STR-1 | P103: RALE | Q103: Raleigh, NC | R103: TBD | S103: Jerome Preston | T103: 1 | U103: Southeast | V103: Inland Carolinas | W103: 12 | X103: Active | Y103: Dummy Record - Storage | Z103: Dummy Record | AA103: 0 | AB103: 401768 | AC103: 0 | AD103: VA | AE103: Virginia | AF103: 0 | AG103: FALSE | AH103: LG | AI103: -1 : RALE : Site Market: Raleigh, NC : | AJ103: Parent RAL7 : Raleigh-NC-STR-1 | AK103: RALE : Raleigh, NC | AO103: 401768 | AP103: Southeast | AQ103: 35.763757 | AR103: -78.515031
A104: -1 : RENO | B104: Site Market: Reno, NV | C104: -1 : RENO | D104: Site Market: Reno, NV | G104: NV | H104: 89521 | J104: USA | K104: 105 | L104: true | M104: true | N104: RENO4 | O104: Reno-NV-STR-1 | P104: RENO | Q104: Reno, NV | R104: TBD | S104: Anthony Virtue | T104: 10 | U104: Central | V104: Mountain | W104: 51 | X104: Active | Y104: Dummy Record - Storage | Z104: Dummy Record | AA104: 0 | AB104: 401768 | AC104: 0 | AD104: NW | AE104: North West | AF104: -3 | AG104: FALSE | AH104: SMALL | AI104: -1 : RENO : Site Market: Reno, NV : | AJ104: Parent RENO4 : Reno-NV-STR-1 | AK104: RENO : Reno, NV | AO104: 401768 | AP104: West Desert | AQ104: 39.446615 | AR104: -119.75541
A105: -1 : RICH | B105: Site Market: Richmond, VA | C105: -1 : RICH | D105: Site Market: Richmond, VA | G105: VA | H105: 23228 | J105: USA | K105: 28 | L105: true | M105: true | N105: RIC5 | O105: Henrico-VA-STR-1 | P105: RICH | Q105: Richmond, VA | R105: TBD | S105: Jerome Preston | T105: 1 | U105: Southeast | V105: Inland Carolinas | W105: 12 | X105: Active | Y105: Dummy Record - Storage | Z105: Dummy Record | AA105: 0 | AB105: 401768 | AC105: 0 | AD105: VA | AE105: Virginia | AF105: 0 | AG105: FALSE | AH105: MED | AI105: -1 : RICH : Site Market: Richmond, VA : | AJ105: Parent RIC5 : Henrico-VA-STR-1 | AK105: RICH : Richmond, VA | AO105: 401768 | AP105: Northeast | AQ105: 37.974759 | AR105: -78.228412
A106: -1 : ROAN | B106: Site Market: Roanoke - Lynchburg, VA | C106: -1 : ROAN | D106: Site Market: Roanoke - Lynchburg, VA | G106: VA | H106: 24019 | J106: USA | K106: 130 | L106: true | M106: true | N106: ROA4 | O106: Roanoke-VA-STR-1 | P106: ROAN | Q106: Roanoke - Lynchburg, VA | R106: TBD | S106: Jerome Preston | T106: 1 | U106: Southeast | V106: Inland Carolinas | W106: 12 | X106: Active | Y106: Dummy Record - Storage | Z106: Dummy Record | AA106: 0 | AB106: 401768 | AC106: 0 | AD106: VA | AE106: Virginia | AF106: 0 | AG106: FALSE | AH106: XS | AI106: -1 : ROAN : Site Market: Roanoke - Lynchburg, VA : | AJ106: Parent ROA4 : Roanoke-VA-STR-1 | AK106: ROAN : Roanoke - Lynchburg, VA | AO106: 401768 | AP106: Southeast | AQ106: 37.314815 | AR106: -79.978696
A107: -1 : ROCH | B107: Site Market: Rochester, NY | C107: -1 : ROCH | D107: Site Market: Rochester, NY | G107: NY | H107: 14609 | J107: USA | K107: 94 | L107: true | M107: true | N107: RCH4 | O107: Rochester-NY-STR-1 | P107: ROCH | Q107: Rochester, NY | R107: TBD | S107: Chad Goodness | T107: 2 | U107: Northeast | V107: NY Upstate | W107: 22 | X107: Active | Y107: Dummy Record - Storage | Z107: Dummy Record | AA107: 0 | AB107: 401768 | AC107: 0 | AD107: NE | AE107: North East | AF107: 0 | AG107: FALSE | AH107: SMALL | AI107: -1 : ROCH : Site Market: Rochester, NY : | AJ107: Parent RCH4 : Rochester-NY-STR-1 | AK107: ROCH : Rochester, NY | AO107: 401768 | AP107: Northeast | AQ107: 43.159166 | AR107: -77.577135
... A139: -1 : WINN | B139: Site Market: Winnipeg, MB Canada | C139: -1 : WINN | D139: Site Market: Winnipeg, MB Canada | G139: MB | H139: R2X 1R3 | J139: CAN | K139: 168 | L139: true | M139: true | N139: WINN | O139: Winnipeg-MB-STR-1 | P139: WINN | Q139: Winnipeg, MB Canada | R139: TBD | S139: Unknown | T139: 10 | U139: Central | V139: Canada Central | W139: 62 | X139: Active | Y139: Dummy Record - Storage | Z139: Dummy Record | AA139: 0 | AB139: 401768 | AC139: 0 | AD139: CA | AE139: Canada | AF139: -1 | AG139: FALSE | AH139: XS | AI139: -1 : WINN : Site Market: Winnipeg, MB Canada : | AJ139: Parent WINN : Winnipeg-MB-STR-1 | AK139: WINN : Winnipeg, MB Canada | AO139: 401768 | AP139: Canada | AQ139: 50.085934 | AR139: -97.21933
A140: 0000 | B140: Clearwater-Fl-Admin-1 | C140: ADMIN | D140: Clearwater-Fl-Admin-1 | E140: 13535 Feather Sound Dr | F140: Clearwater | G140: FL | H140: 33762-2259 | I140: Pinellas | J140: USA | N140: ADMIN | O140: Clearwater-FL-ADMIN-1 | P140: 0000 | Q140: General | R140: TBD | S140: Tom Martin | T140: 7 | U140: Z | V140: PODS | W140: 72 | X140: Active | Y140: Administration | Z140: Active Location | AH140: LG | AI140: ADMIN : Clearwater-Fl-Admin-1 : 13535 Feather Sound Dr | AJ140: Parent ADMIN : Clearwater-FL-ADMIN-1 | AK140: 0000 : General
A141: 0001 | B141: Clearwater-Fl-Admin-5 | C141: CSAT | D141: Clearwater-Fl-Admin-5 | E141: 13535 Feather Sound Drive | H141: 33762 | J141: USA | N141: CSAT | O141: Clearwater-FL-ADMIN-5 | P141: 0000 | Q141: General | R141: TBD | S141: Tom Martin | T141: 7 | U141: Z | V141: PODS | W141: 72 | X141: Active | Y141: Administration | Z141: Active Location | AH141: LG | AI141: CSAT : Clearwater-Fl-Admin-5 : 13535 Feather Sound Drive | AJ141: Parent CSAT : Clearwater-FL-ADMIN-5 | AK141: 0000 : General
A142: 1003 | B142: Round Rock-Tx-Str-1 | C142: AUS4 | D142: Round Rock-Tx-Str-1 | E142: 2251 Picadilly Dr. | F142: Round Rock | G142: TX | H142: 78664 | I142: Williamson | J142: USA | K142: 35 | L142: false | M142: true | N142: AUS6 | O142: San Marcos-TX-STR-1 | P142: ASTN | Q142: Austin, TX | R142: TBD | S142: Greg Payne | T142: 10 | U142: Central | V142: Southwest TX | W142: 53 | X142: Closing FPnA | Y142: Storage | Z142: Closing FPnA | AD142: TX | AE142: Texas | AF142: -1 | AG142: TRUE | AH142: LG | AI142: AUS4 : Round Rock-Tx-Str-1 : 2251 Picadilly Dr. | AJ142: Parent AUS6 : San Marcos-TX-STR-1 | AK142: ASTN : Austin, TX | AP142: Greater Texas | AQ142: 30.148928 | AR142: -97.651072
A143: 1004 | B143: Pewaukee-Wi-Stg-1 | C143: MKE13 | D143: Pewaukee-Wi-Stg-1 | E143: 227 Sussex Street | F143: Pewaukee | G143: WI | H143: 53072 | I143: Waukesha | J143: USA | K143: 58 | L143: true | M143: true | N143: MKE | O143: Milwaukee-WI-STR-1 | P143: MILW | Q143: Milwaukee, WI | R143: TBD | S143: Robert Carner | T143: 10 | U143: Central | V143: Upper Midwest | W143: 32 | X143: Active | Y143: Staging | Z143: Active Location | AA143: 13500.00 | AB143: 47026 | AD143: IL | AE143: Illinois | AF143: -1 | AG143: TRUE | AH143: MED | AI143: MKE13 : Pewaukee-Wi-Stg-1 : 227 Sussex Street | AJ143: Parent MKE : Milwaukee-WI-STR-1 | AK143: MILW : Milwaukee, WI | AP143: Midwest | AQ143: 42.986915 | AR143: -87.917642
A144: 1005 | B144: Long Beach-Ms-Str-1 | C144: GBM6 | D144: Long Beach-Ms-Str-1 | E144: 4493a A Ave. | F144: Long Beach | G144: MS | H144: 39560 | I144: Harrison | J144: USA | K144: 63 | L144: true | M144: true | N144: GBM6 | O144: Long Beach-MS-STR-1 | P144: GULF | Q144: Gulfport - Biloxi, MS | R144: TBD | S144: Timothy R Preston | T144: 10 | U144: Central | V144: TX Gulf Coast | W144: 54 | X144: Active | Y144: Storage | Z144: Active Location | AA144: 30000.00 | AB144: 47664 | AD144: MS | AE144: Mississippi | AF144: -1 | AG144: FALSE | AH144: XS | AI144: GBM6 : Long Beach-Ms-Str-1 : 4493a A Ave. | AJ144: Parent GBM6 : Long Beach-MS-STR-1 | AK144: GULF : Gulfport - Biloxi, MS | AP144: Southeast | AQ144: 30.352597 | AR144: -89.199019
A145: 1006 | B145: Hubert-Nc-Stg-1 | C145: MYB5 | D145: Hubert-Nc-Stg-1 | E145: 110 Old Highway 172 | F145: Hubert | G145: NC | H145: 28539 | I145: Onslow | J145: USA | K145: 68 | L145: true | M145: true | N145: MYB11 | O145: Rocky Point-NC-STR-1 | P145: MYRT | Q145: Myrtle Beach SC/Wilmington NC | R145: TBD | S145: John Schlueter | T145: 1 | U145: Southeast | V145: Coastal Carolina | W145: 10 | X145: Active | Y145: Staging | Z145: Active Location | AA145: 50000.00 | AD145: SE | AE145: South East | AF145: 0 | AG145: TRUE | AH145: MED | AI145: MYB5 : Hubert-Nc-Stg-1 : 110 Old Highway 172 | AJ145: Parent MYB11 : Rocky Point-NC-STR-1 | AK145: MYRT : Myrtle Beach SC/Wilmington NC | AP145: Southeast | AQ145: 33.79819 | AR145: -78.997985
A146: 1009 | B146: Carrum Downs Staging Yard | C146: MELA5 | D146: Carrum Downs Staging Yard | E146: 3/2 Access Way | F146: Carrum Downs | G146: VIC | H146: 3201 | J146: AUS | K146: 140 | L146: true | M146: false | N146: MELA4 | O146: Melbourne-Laverton Storage Center | P146: MLBO | Q146: Melbourne, VIC AUS | R146: TBD | S146: Joseph Carlo II | T146: 7 | U146: Z | V146: Franchise | W146: 71 | X146: Active | Y146: Staging | Z146: Active Location | AD146: NE | AE146: North East | AF146: 15 | AG146: FALSE | AH146: LG | AI146: MELA5 : Carrum Downs Staging Yard : 3/2 Access Way | AJ146: Parent MELA4 : Melbourne-Laverton Storage Center | AK146: MLBO : Melbourne, VIC AUS | AP146: Australia
A147: 1010 | B147: Hilo-Hi-Port-1 | C147: HILOPT | D147: Hilo-Hi-Port-1 | E147: 90 Kuhio St | F147: Hilo | G147: HI | H147: 96720 | I147: Hawaii | J147: USA | K147: 157 | L147: true | M147: true | N147: KAHELU | O147: Mililani-HI-STR-1 | P147: HONO | Q147: Honolulu, HI | R147: TBD | S147: Suzy Brazeau | T147: 4 | U147: West | V147: Pacific Southwest | W147: 44 | X147: Active | Y147: Port | Z147: Active Location | AD147: SW | AE147: South West | AF147: -6 | AG147: TRUE | AH147: SMALL | AI147: HILOPT : Hilo-Hi-Port-1 : 90 Kuhio St | AJ147: Parent KAHELU : Mililani-HI-STR-1 | AK147: HONO : Honolulu, HI | AP147: Hawaii | AQ147: 21.302757 | AR147: -158.08322
A148: 1011 | B148: Lihue-Hi-Port-1 | C148: KAUIPT | D148: Lihue-Hi-Port-1 | E148: 3020 Waapa Rd | F148: Lihue | G148: HI | H148: 96766 | I148: Kauai | J148: USA | K148: 157 | L148: true | M148: true | N148: KAHELU | O148: Mililani-HI-STR-1 | P148: HONO | Q148: Honolulu, HI | R148: TBD | S148: Suzy Brazeau | T148: 4 | U148: West | V148: Pacific Southwest | W148: 44 | X148: Active | Y148: Port | Z148: Active Location | AD148: SW | AE148: South West | AF148: -6 | AG148: TRUE | AH148: SMALL | AI148: KAUIPT : Lihue-Hi-Port-1 : 3020 Waapa Rd | AJ148: Parent KAHELU : Mililani-HI-STR-1 | AK148: HONO : Honolulu, HI | AP148: Hawaii | AQ148: 21.302757 | AR148: -158.08322
A149: 1012 | B149: Kamuela-Hi-Port-1 | C149: KAWAPT | D149: Kamuela-Hi-Port-1 | E149: Pier 2 | F149: Kamuela | G149: HI | H149: 96743 | I149: Hawaii | J149: USA | K149: 157 | L149: true | M149: true | N149: KAHELU | O149: Mililani-HI-STR-1 | P149: HONO | Q149: Honolulu, HI | R149: TBD | S149: Suzy Brazeau | T149: 4 | U149: West | V149: Pacific Southwest | W149: 44 | X149: Active | Y149: Port | Z149: Active Location | AD149: SW | AE149: South West | AF149: -6 | AG149: TRUE | AH149: SMALL | AI149: KAWAPT : Kamuela-Hi-Port-1 : Pier 2 | AJ149: Parent KAHELU : Mililani-HI-STR-1 | AK149: HONO : Honolulu, HI | AP149: Hawaii | AQ149: 21.302757 | AR149: -158.08322
A150: 1014 | B150: Lanai City-Hi-Port-1 | C150: LANAPT | D150: Lanai City-Hi-Port-1 | E150: Kaumalapau Pier | F150: Lanai City | G150: HI | H150: 96763 | I150: Maui | J150: USA | K150: 157 | L150: true | M150: true | N150: KAHELU | O150: Mililani-HI-STR-1 | P150: HONO | Q150: Honolulu, HI | R150: TBD | S150: Suzy Brazeau | T150: 4 | U150: West | V150: Pacific Southwest | W150: 44 | X150: Active | Y150: Port | Z150: Active Location | AD150: SW | AE150: South West | AF150: -6 | AG150: TRUE | AH150: SMALL | AI150: LANAPT : Lanai City-Hi-Port-1 : Kaumalapau Pier | AJ150: Parent KAHELU : Mililani-HI-STR-1 | AK150: HONO : Honolulu, HI | AP150: Hawaii | AQ150: 21.302757 | AR150: -158.08322
...

Sheet Sheet7
A1: Market # | B1: Market | C1: Region | F1: {=_xlfn._xlws.SORT(_xlfn.UNIQUE(_xlfn._xlws.FILTER(Locations['[GL Location Name']],(Locations['[Site Market Id']]='Gen 5 Containers'!$C$4)*(Locations['[Site Status Desc']]<>"Dummy Record")*(Locations['[Site Active Flag']]="TRUE"))))} -> #VALUE! | K1: Market # | L1: Market | M1: Region
A2: {=_xlfn._xlws.SORT(_xlfn.UNIQUE(_xlfn.CHOOSECOLS(_xlfn._xlws.FILTER(Locations[#Data],Locations['[Site Market Id']]<>""),11,17,21)),1,1)} -> 1 | B2: Tampa Bay, FL | C2: Southeast | K2: 1 | L2: Tampa Bay, FL | M2: Southeast
A3: -1 | B3: Unknown | C3: Unknown | K3: 2 | L3: Sarasota, FL | M3: Southeast
A4: 10 | B4: Daytona, FL | C4: Southeast | K4: 3 | L4: South Florida | M4: Southeast
A5: 100 | B5: PODS-US | C5: Z | K5: 4 | L5: Orlando, FL | M5: Southeast
A6: 101 | B6: El Paso, TX | C6: Central | K6: 5 | L6: Minneapolis, MN | M6: Central
A7: 102 | B7: Tallahassee, FL | C7: Z | K7: 6 | L7: Charlotte, NC | M7: Southeast
A8: 103 | B8: Santa Barbara, CA | C8: Z | K8: 7 | L8: Indianapolis, IN | M8: Z
A9: 105 | B9: Reno, NV | C9: Central | K9: 8 | L9: Cincinnati, OH | M9: Northeast
A10: 107 | B10: Jersey Shore, NJ | C10: Northeast | K10: 9 | L10: PODS-US | M10: Z
A11: 108 | B11: Central Jersey, NJ | C11: Northeast | K11: 10 | L11: Daytona, FL | M11: Southeast
A12: 109 | B12: Johnson City, TN | C12: Central | K12: 11 | L12: Jacksonville, FL | M12: Southeast
A13: 11 | B13: Jacksonville, FL | C13: Southeast | K13: 12 | L13: Melbourne, FL | M13: Southeast
A14: 110 | B14: Knoxville, TN | C14: Central | K14: 13 | L14: General | M14: Z
... A148: 90 | B148: Syracuse, NY | C148: Northeast | K148: 183 | L148: Quad Cities | M148: Central
A149: 91 | B149: Scranton, PA | C149: Northeast
A150: 92 | B150: Harrisburg - Lancaster, PA | C150: Northeast
A151: 93 | B151: Pittsburgh, PA | C151: Northeast
A152: 94 | B152: Rochester, NY | C152: Northeast
A153: 95 | B153: Buffalo, NY | C153: Northeast
A154: 96 | B154: Boulder, CO | C154: Central
A155: 97 | B155: Shenandoah Valley, VA | C155: Northeast
A156: 98 | B156: Shreveport, LA | C156: Central
