Workbook
Name Location_Name: #REF!
Name Location_Names: #REF!
Name Location_Number: #REF!
Name Location_Numbers: #REF!

Sheet Reimbursement Instructions
A1: PODS - Inter-Franchise Repair Reimbursement Form Instructions
A3: Task # | B3: Cell(s) | C3: Task | D3: Worksheet | E3: Completed By
A4: 1 | B4: N/A | C4: Identify I-F containers at your market that need repair | D4: IF Repair Reimbursement | E4: Market
A5: 2 | B5: C3 | C5: Type the date the form was filled out | D5: IF Repair Reimbursement | E5: Market
A6: 3 | B6: C4 | C6: Type your Market Number here | D6: IF Repair Reimbursement | E6: Market
A7: 4 | B7: C7 | C7: Type first and last of person filling out form | D7: IF Repair Reimbursement | E7: Market
A8: 5 | B8: C8 | C8: Type your 10-digit Phone Number with or w/o dashes | D8: IF Repair Reimbursement | E8: Market
A9: 6 | B9: H5 : Q5 | C9: Type the container number(s) that need repair | D9: IF Repair Reimbursement | E9: Market
A10: 7 | B10: H11 : Q98 | C10: Type parts quantities needed for repair per container | D10: IF Repair Reimbursement | E10: Market
A11: 8 | B11: I139 : I148 | C11: Type additional comments (if needed or as required) | D11: IF Repair Reimbursement | E11: Market
A12: 9 | B12: N/A | C12: Attach at least 2 clear photos of each heavy repair area making sure to include the container number and/or serial number | D12: Attachment | E12: Market
A13: 10 | B13: N/A | C13: Save form and e-mail to FixedAssets@pods.com | D13: IF Repair Reimbursement | E13: Market
A14: 11 | B14: N/A | C14: Audit for unit number and repair history | D14: IF Repair Reimbursement | E14: Fixed Assets
A15: 12 | B15: A144 : A148 | C15: Type any additional comments (if needed) | D15: IF Repair Reimbursement | E15: Fixed Assets
... A27: 24 | B27: N/A | C27: Submit payment | D27: IF Repair Reimbursement | E27: Fixed Assets

Sheet IF Repair Reimbursement
A1: Gen 6 Container Repairs | E1: Inter-franchise Container Repair Request & Reimbursement Form
E2: Revised: Jul. 19, 2018 - Replaces form dated Jan. 15, 2018
A3: Date Submitted | C3: (Type in Date Here) | E3: ** Look at the bottom of this form to see what changes were made. **
A4: Market Number | C4: (Type in Market #) | E4: Repair Count | H4: 1 | I4: 2 | J4: 3 | K4: 4 | L4: 5 | M4: 6 | N4: 7 | O4: 8 | P4: 9 | Q4: 10
A5: Market Location | C5: =VLOOKUP(C4,'Market Listing'!A:B,2,FALSE) -> (Auto-populates after Mkt # is entered) | E5: Container Number
A6: Market Legal Name | C6: =VLOOKUP(C4,'Market Listing'!A:C,3,FALSE) -> (Auto-populates after Mkt # is entered) | E6: Date Repaired
A7: Submitted By | C7: (Type in First and Last Name) | E7: PO Number | H7: ='IF PO Record'!$I5 -> 0 | I7: ='IF PO Record'!$I5 -> 0 | J7: ='IF PO Record'!$I6 -> 0 | K7: ='IF PO Record'!$I7 -> 0 | L7: ='IF PO Record'!$I8 -> 0 | M7: ='IF PO Record'!$I9 -> 0 | N7: ='IF PO Record'!$I10 -> 0 | O7: ='IF PO Record'!$I11 -> 0 | P7: ='IF PO Record'!$I12 -> 0 | Q7: ='IF PO Record'!$I13 -> 0
A8: Phone Number | C8: (Type in 10 digit Phone Number) | H8: IF / Local | I8: IF / Local | J8: IF / Local | K8: IF / Local | L8: IF / Local | M8: IF / Local | N8: IF / Local | O8: IF / Local | P8: IF / Local | Q8: IF / Local
A10: Part No. | B10: Parts Description | D10: List Price | E10: Total Quantity | F10: Total Cost | H10: Quantity / Container | I10: Quantity / Container | J10: Quantity / Container | K10: Quantity / Container | L10: Quantity / Container | M10: Quantity / Container | N10: Quantity / Container | O10: Quantity / Container | P10: Quantity / Container | Q10: Quantity / Container | S10: Repair Time in minutes | AD10: Heavy / Light
A11: CLEANER | B11: Pressure Washing Cleaner (Enter .25 for one container) | D11: 9.65 | E11: =SUM(H11:Q11) -> 0 | F11: =+E11*D11 -> 0 | G11: L | S11: 15 | T11: =H11*$D11 -> 0 | U11: =I11*$D11 -> 0 | V11: =J11*$D11 -> 0 | W11: =K11*$D11 -> 0 | X11: =L11*$D11 -> 0 | Y11: =M11*$D11 -> 0 | Z11: =N11*$D11 -> 0 | AA11: =O11*$D11 -> 0 | ... AC11: =Q11*$D11 -> 0 | AD11: L
A12: Paint | B12: Paint for Panel repair-Rustoleum White Spray Can (Gen6) | D12: 9 | E12: =SUM(H12:Q12) -> 0 | F12: =+E12*D12 -> 0 | G12: L | S12: 15 | T12: =H12*$D12 -> 0 | U12: =I12*$D12 -> 0 | V12: =J12*$D12 -> 0 | W12: =K12*$D12 -> 0 | X12: =L12*$D12 -> 0 | Y12: =M12*$D12 -> 0 | Z12: =N12*$D12 -> 0 | AA12: =O12*$D12 -> 0 | ... AC12: =Q12*$D12 -> 0 | AD12: L
A13: PG6001 | B13: Silver Hucktainer Sleeve (Gen6) | D13: 0.17 | E13: =SUM(H13:Q13) -> 0 | F13: =+E13*D13 -> 0 | G13: L | S13: 5 | T13: =H13*$D13 -> 0 | U13: =I13*$D13 -> 0 | V13: =J13*$D13 -> 0 | W13: =K13*$D13 -> 0 | X13: =L13*$D13 -> 0 | Y13: =M13*$D13 -> 0 | Z13: =N13*$D13 -> 0 | AA13: =O13*$D13 -> 0 | ... AC13: =Q13*$D13 -> 0 | AD13: L
A14: PG6001C | B14: Hucktainer Pin (Gen6) | D14: 0.34 | E14: =SUM(H14:Q14) -> 0 | F14: =+E14*D14 -> 0 | G14: L | S14: 5 | T14: =H14*$D14 -> 0 | U14: =I14*$D14 -> 0 | V14: =J14*$D14 -> 0 | W14: =K14*$D14 -> 0 | X14: =L14*$D14 -> 0 | Y14: =M14*$D14 -> 0 | Z14: =N14*$D14 -> 0 | AA14: =O14*$D14 -> 0 | ... AC14: =Q14*$D14 -> 0 | AD14: L
A15: PG6005 | B15: Floor Self Tapping Screw (Gen6) | D15: 0.03 | E15: =SUM(H15:Q15) -> 0 | F15: =+(E15*D15) -> 0 | G15: L | S15: 3 | T15: =H15*$D15 -> 0 | U15: =I15*$D15 -> 0 | V15: =J15*$D15 -> 0 | W15: =K15*$D15 -> 0 | X15: =L15*$D15 -> 0 | Y15: =M15*$D15 -> 0 | Z15: =N15*$D15 -> 0 | AA15: =O15*$D15 -> 0 | ... AC15: =Q15*$D15 -> 0 | AD15: L
A16: PG6010 | B16: Dowel Pin for Bottom Corner Post (Gen6) | D16: 0.5 | E16: =SUM(H16:Q16) -> 0 | F16: =+(E16*D16) -> 0 | G16: L | S16: 3 | T16: =H16*$D16 -> 0 | U16: =I16*$D16 -> 0 | V16: =J16*$D16 -> 0 | W16: =K16*$D16 -> 0 | X16: =L16*$D16 -> 0 | Y16: =M16*$D16 -> 0 | Z16: =N16*$D16 -> 0 | AA16: =O16*$D16 -> 0 | ... AC16: =Q16*$D16 -> 0 | AD16: L
A17: PG6011L | B17: Gasket Front Corner Post Left (Gen6) | D17: 1.6 | E17: =SUM(H17:Q17) -> 0 | F17: =+E17*D17 -> 0 | G17: L | S17: 120 | T17: =H17*$D17 -> 0 | U17: =I17*$D17 -> 0 | V17: =J17*$D17 -> 0 | W17: =K17*$D17 -> 0 | X17: =L17*$D17 -> 0 | Y17: =M17*$D17 -> 0 | Z17: =N17*$D17 -> 0 | AA17: =O17*$D17 -> 0 | ... AC17: =Q17*$D17 -> 0 | AD17: L
A18: PG6011R | B18: Gasket Front Corner Post Right (Gen6) | D18: 1.6 | E18: =SUM(H18:Q18) -> 0 | F18: =+E18*D18 -> 0 | G18: L | S18: 120 | T18: =H18*$D18 -> 0 | U18: =I18*$D18 -> 0 | V18: =J18*$D18 -> 0 | W18: =K18*$D18 -> 0 | X18: =L18*$D18 -> 0 | Y18: =M18*$D18 -> 0 | Z18: =N18*$D18 -> 0 | AA18: =O18*$D18 -> 0 | ... AC18: =Q18*$D18 -> 0 | AD18: L
A19: PG6012L | B19: Gasket Rear Corner Post Left (Gen6) | D19: 1.6 | E19: =SUM(H19:Q19) -> 0 | F19: =+E19*D19 -> 0 | G19: L | S19: 120 | T19: =H19*$D19 -> 0 | U19: =I19*$D19 -> 0 | V19: =J19*$D19 -> 0 | W19: =K19*$D19 -> 0 | X19: =L19*$D19 -> 0 | Y19: =M19*$D19 -> 0 | Z19: =N19*$D19 -> 0 | AA19: =O19*$D19 -> 0 | ... AC19: =Q19*$D19 -> 0 | AD19: L
A20: PG6012R | B20: Gasket Rear Corner Post Right (Gen6) | D20: 1.6 | E20: =SUM(H20:Q20) -> 0 | F20: =+E20*D20 -> 0 | G20: L | S20: 120 | T20: =H20*$D20 -> 0 | U20: =I20*$D20 -> 0 | V20: =J20*$D20 -> 0 | W20: =K20*$D20 -> 0 | X20: =L20*$D20 -> 0 | Y20: =M20*$D20 -> 0 | Z20: =N20*$D20 -> 0 | AA20: =O20*$D20 -> 0 | ... AC20: =Q20*$D20 -> 0 | AD20: L
A21: PG6013 | B21: Bolt M12 x 1.75 x 30 w/Lock Tight (Gen6) | D21: 0.2 | E21: =SUM(H21:Q21) -> 0 | F21: =+E21*D21 -> 0 | G21: L | S21: 2 | T21: =H21*$D21 -> 0 | U21: =I21*$D21 -> 0 | V21: =J21*$D21 -> 0 | W21: =K21*$D21 -> 0 | X21: =L21*$D21 -> 0 | Y21: =M21*$D21 -> 0 | Z21: =N21*$D21 -> 0 | AA21: =O21*$D21 -> 0 | ... AC21: =Q21*$D21 -> 0 | AD21: L
A22: PG6014 | B22: Corner Post Washer Lock M12 (Gen6) | D22: 0.06 | E22: =SUM(H22:Q22) -> 0 | F22: =+E22*D22 -> 0 | G22: L | S22: 2 | T22: =H22*$D22 -> 0 | U22: =I22*$D22 -> 0 | V22: =J22*$D22 -> 0 | W22: =K22*$D22 -> 0 | X22: =L22*$D22 -> 0 | Y22: =M22*$D22 -> 0 | Z22: =N22*$D22 -> 0 | AA22: =O22*$D22 -> 0 | ... AC22: =Q22*$D22 -> 0 | AD22: L
A23: PG6015 | B23: EPDM Gasket Block (Gen6) | D23: 0.2 | E23: =SUM(H23:Q23) -> 0 | F23: =+E23*D23 -> 0 | G23: L | S23: 180 | T23: =H23*$D23 -> 0 | U23: =I23*$D23 -> 0 | V23: =J23*$D23 -> 0 | W23: =K23*$D23 -> 0 | X23: =L23*$D23 -> 0 | Y23: =M23*$D23 -> 0 | Z23: =N23*$D23 -> 0 | AA23: =O23*$D23 -> 0 | ... AC23: =Q23*$D23 -> 0 | AD23: L
A24: PG6017 | B24: Side Wall Decal Large (Gen6) | D24: 20.97 | E24: =SUM(H24:Q24) -> 0 | F24: =+E24*D24 -> 0 | G24: L | S24: 45 | T24: =H24*$D24 -> 0 | U24: =I24*$D24 -> 0 | V24: =J24*$D24 -> 0 | W24: =K24*$D24 -> 0 | X24: =L24*$D24 -> 0 | Y24: =M24*$D24 -> 0 | Z24: =N24*$D24 -> 0 | AA24: =O24*$D24 -> 0 | ... AC24: =Q24*$D24 -> 0 | AD24: L
A25: PG6017-8 | B25: Side Wall Decal Small (8 ft GEN6 Container) | D25: 19.38 | E25: =SUM(H25:Q25) -> 0 | F25: =+E25*D25 -> 0 | G25: L | S25: 30 | T25: =H25*$D25 -> 0 | U25: =I25*$D25 -> 0 | V25: =J25*$D25 -> 0 | W25: =K25*$D25 -> 0 | X25: =L25*$D25 -> 0 | Y25: =M25*$D25 -> 0 | Z25: =N25*$D25 -> 0 | AA25: =O25*$D25 -> 0 | ... AC25: =Q25*$D25 -> 0 | AD25: L
A26: PG6019 | B26: Vent Assembly (Gen6) | D26: 1.05 | E26: =SUM(H26:Q26) -> 0 | F26: =SUM(E26*D26) -> 0 | G26: L | S26: 15 | T26: =SUM(H26*$D26) -> 0 | U26: =SUM(I26*$D26) -> 0 | V26: =SUM(J26*$D26) -> 0 | W26: =SUM(K26*$D26) -> 0 | X26: =SUM(L26*$D26) -> 0 | Y26: =SUM(M26*$D26) -> 0 | Z26: =SUM(N26*$D26) -> 0 | AA26: =SUM(O26*$D26) -> 0 | ... AC26: =SUM(Q26*$D26) -> 0 | AD26: L
A27: PG6020 | B27: Vent Gasket (Gen6) | D27: 0.75 | E27: =SUM(H27:Q27) -> 0 | F27: =SUM(E27*D27) -> 0 | G27: L | S27: 15 | T27: =SUM(H27*$D27) -> 0 | U27: =SUM(I27*$D27) -> 0 | V27: =SUM(J27*$D27) -> 0 | W27: =SUM(K27*$D27) -> 0 | X27: =SUM(L27*$D27) -> 0 | Y27: =SUM(M27*$D27) -> 0 | Z27: =SUM(N27*$D27) -> 0 | AA27: =SUM(O27*$D27) -> 0 | ... AC27: =SUM(Q27*$D27) -> 0 | AD27: L
A28: PG6021 | B28: T-Nut Plate for Wall Panels (Gen6) | D28: 2.1 | E28: =SUM(H28:Q28) -> 0 | F28: =+E28*D28 -> 0 | G28: L | S28: 35 | T28: =H28*$D28 -> 0 | U28: =I28*$D28 -> 0 | V28: =J28*$D28 -> 0 | W28: =K28*$D28 -> 0 | X28: =L28*$D28 -> 0 | Y28: =M28*$D28 -> 0 | Z28: =N28*$D28 -> 0 | AA28: =O28*$D28 -> 0 | ... AC28: =Q28*$D28 -> 0 | AD28: L
A29: PG6022 | B29: Intermediate Wall Post (Gen6) | D29: 32.16 | E29: =SUM(H29:Q29) -> 0 | F29: =+E29*D29 -> 0 | G29: L | S29: 20 | T29: =H29*$D29 -> 0 | U29: =I29*$D29 -> 0 | V29: =J29*$D29 -> 0 | W29: =K29*$D29 -> 0 | X29: =L29*$D29 -> 0 | Y29: =M29*$D29 -> 0 | Z29: =N29*$D29 -> 0 | AA29: =O29*$D29 -> 0 | ... AC29: =Q29*$D29 -> 0 | AD29: L
A30: PG6023 | B30: Bolt M10 x 1.50 x 16mm w/Lock Tight (Gen6) | D30: 0.18 | E30: =SUM(H30:Q30) -> 0 | F30: =+E30*D30 -> 0 | G30: L | S30: 2 | T30: =H30*$D30 -> 0 | U30: =I30*$D30 -> 0 | V30: =J30*$D30 -> 0 | W30: =K30*$D30 -> 0 | X30: =L30*$D30 -> 0 | Y30: =M30*$D30 -> 0 | Z30: =N30*$D30 -> 0 | AA30: =O30*$D30 -> 0 | ... AC30: =Q30*$D30 -> 0 | AD30: L
A31: PG6024 | B31: Bolt M10 x 1.50 x 25mm w/Lock Tight (Gen6) | D31: 0.18 | E31: =SUM(H31:Q31) -> 0 | F31: =+E31*D31 -> 0 | G31: L | S31: 2 | T31: =H31*$D31 -> 0 | U31: =I31*$D31 -> 0 | V31: =J31*$D31 -> 0 | W31: =K31*$D31 -> 0 | X31: =L31*$D31 -> 0 | Y31: =M31*$D31 -> 0 | Z31: =N31*$D31 -> 0 | AA31: =O31*$D31 -> 0 | ... AC31: =Q31*$D31 -> 0 | AD31: L
A32: PG6025 | B32: Bolt M10 x 1.50 x 150mm (Gen6) | D32: 0.6 | E32: =SUM(H32:Q32) -> 0 | F32: =+E32*D32 -> 0 | G32: L | S32: 2 | T32: =H32*$D32 -> 0 | U32: =I32*$D32 -> 0 | V32: =J32*$D32 -> 0 | W32: =K32*$D32 -> 0 | X32: =L32*$D32 -> 0 | Y32: =M32*$D32 -> 0 | Z32: =N32*$D32 -> 0 | AA32: =O32*$D32 -> 0 | ... AC32: =Q32*$D32 -> 0 | AD32: L
A33: PG6026 | B33: Flat Washer M10 for Wall Post (Gen6) | D33: 0.06 | E33: =SUM(H33:Q33) -> 0 | F33: =+E33*D33 -> 0 | G33: L | S33: 2 | T33: =H33*$D33 -> 0 | U33: =I33*$D33 -> 0 | V33: =J33*$D33 -> 0 | W33: =K33*$D33 -> 0 | X33: =L33*$D33 -> 0 | Y33: =M33*$D33 -> 0 | Z33: =N33*$D33 -> 0 | AA33: =O33*$D33 -> 0 | ... AC33: =Q33*$D33 -> 0 | AD33: L
A34: PG6027 | B34: Spring Washer M10 (Gen6) | D34: 0.81 | E34: =SUM(H34:Q34) -> 0 | F34: =+(E34*D34) -> 0 | G34: L | S34: 2 | T34: =H34*$D34 -> 0 | U34: =I34*$D34 -> 0 | V34: =J34*$D34 -> 0 | W34: =K34*$D34 -> 0 | X34: =L34*$D34 -> 0 | Y34: =M34*$D34 -> 0 | Z34: =N34*$D34 -> 0 | AA34: =O34*$D34 -> 0 | ... AC34: =Q34*$D34 -> 0 | AD34: L
A35: PG6028 | B35: D-Ring (Gen6) | D35: 1.25 | E35: =SUM(H35:Q35) -> 0 | F35: =+(E35*D35) -> 0 | G35: L | S35: 30 | T35: =H35*$D35 -> 0 | U35: =I35*$D35 -> 0 | V35: =J35*$D35 -> 0 | W35: =K35*$D35 -> 0 | X35: =L35*$D35 -> 0 | Y35: =M35*$D35 -> 0 | Z35: =N35*$D35 -> 0 | AA35: =O35*$D35 -> 0 | ... AC35: =Q35*$D35 -> 0 | AD35: L
A36: PG6029 | B36: Panel Retainer Exterior Bottom Rail Left w/Gasket (Gen6) | D36: 9.47 | E36: =SUM(H36:Q36) -> 0 | F36: =+E36*D36 -> 0 | G36: L | S36: 30 | T36: =H36*$D36 -> 0 | U36: =I36*$D36 -> 0 | V36: =J36*$D36 -> 0 | W36: =K36*$D36 -> 0 | X36: =L36*$D36 -> 0 | Y36: =M36*$D36 -> 0 | Z36: =N36*$D36 -> 0 | AA36: =O36*$D36 -> 0 | ... AC36: =Q36*$D36 -> 0 | AD36: L
A37: PG6030 | B37: Panel Retainer Exterior Bottom Rail Right w/Gasket (Gen6) | D37: 9.47 | E37: =SUM(H37:Q37) -> 0 | F37: =+E37*D37 -> 0 | G37: L | S37: 30 | T37: =H37*$D37 -> 0 | U37: =I37*$D37 -> 0 | V37: =J37*$D37 -> 0 | W37: =K37*$D37 -> 0 | X37: =L37*$D37 -> 0 | Y37: =M37*$D37 -> 0 | Z37: =N37*$D37 -> 0 | AA37: =O37*$D37 -> 0 | ... AC37: =Q37*$D37 -> 0 | AD37: L
A38: PG6031 | B38: Retainer Exterior Bottom Front Sill w/Gasket (Gen6) | D38: 2.43 | E38: =SUM(H38:Q38) -> 0 | F38: =+E38*D38 -> 0 | G38: L | S38: 30 | T38: =H38*$D38 -> 0 | U38: =I38*$D38 -> 0 | V38: =J38*$D38 -> 0 | W38: =K38*$D38 -> 0 | X38: =L38*$D38 -> 0 | Y38: =M38*$D38 -> 0 | Z38: =N38*$D38 -> 0 | AA38: =O38*$D38 -> 0 | ... AC38: =Q38*$D38 -> 0 | AD38: L
A39: PG6032 | B39: Panel Retainer Interior Top Rail Left (Gen6) | D39: 9.01 | E39: =SUM(H39:Q39) -> 0 | F39: =+E39*D39 -> 0 | G39: L | S39: 30 | T39: =H39*$D39 -> 0 | U39: =I39*$D39 -> 0 | V39: =J39*$D39 -> 0 | W39: =K39*$D39 -> 0 | X39: =L39*$D39 -> 0 | Y39: =M39*$D39 -> 0 | Z39: =N39*$D39 -> 0 | AA39: =O39*$D39 -> 0 | ... AC39: =Q39*$D39 -> 0 | AD39: L
A40: PG6033 | B40: Panel Retainer Interior Top Rail Right (Gen6) | D40: 9.01 | E40: =SUM(H40:Q40) -> 0 | F40: =+E40*D40 -> 0 | G40: L | S40: 30 | T40: =H40*$D40 -> 0 | U40: =I40*$D40 -> 0 | V40: =J40*$D40 -> 0 | W40: =K40*$D40 -> 0 | X40: =L40*$D40 -> 0 | Y40: =M40*$D40 -> 0 | Z40: =N40*$D40 -> 0 | AA40: =O40*$D40 -> 0 | ... AC40: =Q40*$D40 -> 0 | AD40: L
A41: PG6034 | B41: Panel Retainer Interior Top Rail Center (Gen6) | D41: 9.01 | E41: =SUM(H41:Q41) -> 0 | F41: =+E41*D41 -> 0 | G41: L | S41: 30 | T41: =H41*$D41 -> 0 | U41: =I41*$D41 -> 0 | V41: =J41*$D41 -> 0 | W41: =K41*$D41 -> 0 | X41: =L41*$D41 -> 0 | Y41: =M41*$D41 -> 0 | Z41: =N41*$D41 -> 0 | AA41: =O41*$D41 -> 0 | ... AC41: =Q41*$D41 -> 0 | AD41: L
...

Sheet IF PO Record
A1: PODS - BX Repair PO Record
A3: Repair Count | B3: ='IF Repair Reimbursement'!E5 -> Container Number | C3: ='IF Repair Reimbursement'!A3 -> Date Submitted | D3: ='IF Repair Reimbursement'!A4 -> Market Number | E3: ='IF Repair Reimbursement'!A5 -> Market Location | F3: ='IF Repair Reimbursement'!A6 -> Market Legal Name | G3: ='IF Repair Reimbursement'!A7 -> Submitted By | H3: Approved Amount | I3: PO Number | J3: PO Issue Date | K3: PO Issue Week Ending | L3: PO Issued By | M3: Comments
A4: 1 | B4: ='IF Repair Reimbursement'!H139 | C4: =IF('IF Repair Reimbursement'!$C$3="(Type in Date Here)","",'IF Repair Reimbursement'!$C$3) | D4: =IF('IF Repair Reimbursement'!$C$4="(Type in Market #)","",'IF Repair Reimbursement'!$C$4) | E4: =IF('IF Repair Reimbursement'!$C$5="(Auto-populates after Mkt # is entered)","",'IF Repair Reimbursement'!$C$5) | F4: =IF('IF Repair Reimbursement'!$C$6="(Auto-populates after Mkt # is entered)","",'IF Repair Reimbursement'!$C$6) | G4: =IF('IF Repair Reimbursement'!$C$7="(Type in First and Last Name)","",'IF Repair Reimbursement'!$C$7) | O4: ='IF Repair Reimbursement'!H136 -> 0
A5: 2 | B5: ='IF Repair Reimbursement'!H140 | C5: =IF('IF Repair Reimbursement'!$C$3="(Type in Date Here)","",'IF Repair Reimbursement'!$C$3) | D5: =IF('IF Repair Reimbursement'!$C$4="(Type in Market #)","",'IF Repair Reimbursement'!$C$4) | E5: =IF('IF Repair Reimbursement'!$C$5="(Auto-populates after Mkt # is entered)","",'IF Repair Reimbursement'!$C$5) | F5: =IF('IF Repair Reimbursement'!$C$6="(Auto-populates after Mkt # is entered)","",'IF Repair Reimbursement'!$C$6) | G5: =IF('IF Repair Reimbursement'!$C$7="(Type in First and Last Name)","",'IF Repair Reimbursement'!$C$7) | O5: ='IF Repair Reimbursement'!I136 -> 0
A6: 3 | B6: ='IF Repair Reimbursement'!H141 | C6: =IF('IF Repair Reimbursement'!$C$3="(Type in Date Here)","",'IF Repair Reimbursement'!$C$3) | D6: =IF('IF Repair Reimbursement'!$C$4="(Type in Market #)","",'IF Repair Reimbursement'!$C$4) | E6: =IF('IF Repair Reimbursement'!$C$5="(Auto-populates after Mkt # is entered)","",'IF Repair Reimbursement'!$C$5) | F6: =IF('IF Repair Reimbursement'!$C$6="(Auto-populates after Mkt # is entered)","",'IF Repair Reimbursement'!$C$6) | G6: =IF('IF Repair Reimbursement'!$C$7="(Type in First and Last Name)","",'IF Repair Reimbursement'!$C$7) | O6: ='IF Repair Reimbursement'!J136 -> 0
A7: 4 | B7: ='IF Repair Reimbursement'!H142 | C7: =IF('IF Repair Reimbursement'!$C$3="(Type in Date Here)","",'IF Repair Reimbursement'!$C$3) | D7: =IF('IF Repair Reimbursement'!$C$4="(Type in Market #)","",'IF Repair Reimbursement'!$C$4) | E7: =IF('IF Repair Reimbursement'!$C$5="(Auto-populates after Mkt # is entered)","",'IF Repair Reimbursement'!$C$5) | F7: =IF('IF Repair Reimbursement'!$C$6="(Auto-populates after Mkt # is entered)","",'IF Repair Reimbursement'!$C$6) | G7: =IF('IF Repair Reimbursement'!$C$7="(Type in First and Last Name)","",'IF Repair Reimbursement'!$C$7) | O7: ='IF Repair Reimbursement'!K136 -> 0
A8: 5 | B8: ='IF Repair Reimbursement'!H143 | C8: =IF('IF Repair Reimbursement'!$C$3="(Type in Date Here)","",'IF Repair Reimbursement'!$C$3) | D8: =IF('IF Repair Reimbursement'!$C$4="(Type in Market #)","",'IF Repair Reimbursement'!$C$4) | E8: =IF('IF Repair Reimbursement'!$C$5="(Auto-populates after Mkt # is entered)","",'IF Repair Reimbursement'!$C$5) | F8: =IF('IF Repair Reimbursement'!$C$6="(Auto-populates after Mkt # is entered)","",'IF Repair Reimbursement'!$C$6) | G8: =IF('IF Repair Reimbursement'!$C$7="(Type in First and Last Name)","",'IF Repair Reimbursement'!$C$7) | O8: ='IF Repair Reimbursement'!L136 -> 0
A9: 6 | B9: ='IF Repair Reimbursement'!H144 | C9: =IF('IF Repair Reimbursement'!$C$3="(Type in Date Here)","",'IF Repair Reimbursement'!$C$3) | D9: =IF('IF Repair Reimbursement'!$C$4="(Type in Market #)","",'IF Repair Reimbursement'!$C$4) | E9: =IF('IF Repair Reimbursement'!$C$5="(Auto-populates after Mkt # is entered)","",'IF Repair Reimbursement'!$C$5) | F9: =IF('IF Repair Reimbursement'!$C$6="(Auto-populates after Mkt # is entered)","",'IF Repair Reimbursement'!$C$6) | G9: =IF('IF Repair Reimbursement'!$C$7="(Type in First and Last Name)","",'IF Repair Reimbursement'!$C$7) | O9: ='IF Repair Reimbursement'!M136 -> 0
A10: 7 | B10: ='IF Repair Reimbursement'!H145 | C10: =IF('IF Repair Reimbursement'!$C$3="(Type in Date Here)","",'IF Repair Reimbursement'!$C$3) | D10: =IF('IF Repair Reimbursement'!$C$4="(Type in Market #)","",'IF Repair Reimbursement'!$C$4) | E10: =IF('IF Repair Reimbursement'!$C$5="(Auto-populates after Mkt # is entered)","",'IF Repair Reimbursement'!$C$5) | F10: =IF('IF Repair Reimbursement'!$C$6="(Auto-populates after Mkt # is entered)","",'IF Repair Reimbursement'!$C$6) | G10: =IF('IF Repair Reimbursement'!$C$7="(Type in First and Last Name)","",'IF Repair Reimbursement'!$C$7) | O10: ='IF Repair Reimbursement'!N136 -> 0
A11: 8 | B11: ='IF Repair Reimbursement'!H146 | C11: =IF('IF Repair Reimbursement'!$C$3="(Type in Date Here)","",'IF Repair Reimbursement'!$C$3) | D11: =IF('IF Repair Reimbursement'!$C$4="(Type in Market #)","",'IF Repair Reimbursement'!$C$4) | E11: =IF('IF Repair Reimbursement'!$C$5="(Auto-populates after Mkt # is entered)","",'IF Repair Reimbursement'!$C$5) | F11: =IF('IF Repair Reimbursement'!$C$6="(Auto-populates after Mkt # is entered)","",'IF Repair Reimbursement'!$C$6) | G11: =IF('IF Repair Reimbursement'!$C$7="(Type in First and Last Name)","",'IF Repair Reimbursement'!$C$7) | O11: ='IF Repair Reimbursement'!O136 -> 0
A12: 9 | B12: ='IF Repair Reimbursement'!H147 | C12: =IF('IF Repair Reimbursement'!$C$3="(Type in Date Here)","",'IF Repair Reimbursement'!$C$3) | D12: =IF('IF Repair Reimbursement'!$C$4="(Type in Market #)","",'IF Repair Reimbursement'!$C$4) | E12: =IF('IF Repair Reimbursement'!$C$5="(Auto-populates after Mkt # is entered)","",'IF Repair Reimbursement'!$C$5) | F12: =IF('IF Repair Reimbursement'!$C$6="(Auto-populates after Mkt # is entered)","",'IF Repair Reimbursement'!$C$6) | G12: =IF('IF Repair Reimbursement'!$C$7="(Type in First and Last Name)","",'IF Repair Reimbursement'!$C$7) | O12: ='IF Repair Reimbursement'!P136 -> 0
A13: 10 | B13: ='IF Repair Reimbursement'!H148 | C13: =IF('IF Repair Reimbursement'!$C$3="(Type in Date Here)","",'IF Repair Reimbursement'!$C$3) | D13: =IF('IF Repair Reimbursement'!$C$4="(Type in Market #)","",'IF Repair Reimbursement'!$C$4) | E13: =IF('IF Repair Reimbursement'!$C$5="(Auto-populates after Mkt # is entered)","",'IF Repair Reimbursement'!$C$5) | F13: =IF('IF Repair Reimbursement'!$C$6="(Auto-populates after Mkt # is entered)","",'IF Repair Reimbursement'!$C$6) | G13: =IF('IF Repair Reimbursement'!$C$7="(Type in First and Last Name)","",'IF Repair Reimbursement'!$C$7) | O13: ='IF Repair Reimbursement'!Q136 -> 0
O14: =SUM(O4:O13) -> 0
G15: Total: | H15: =SUM(H4:H13) -> 0
G18: Total Light Parts | H18: =SUM('IF Repair Reimbursement'!F11:F81) -> 0 | J18: Fill out only the yellow highlighted sections
G19: Total Heavy Parts | H19: =SUM('IF Repair Reimbursement'!F88:F98) -> 0
G20: Total Parts | H20: =H19+H18 -> 0
G22: Total Light Labor | H22: =SUM('IF Repair Reimbursement'!F102:F115) -> 0
G23: Total Heavy Labor | H23: =SUM('IF Repair Reimbursement'!F122:F133) -> 0
G24: Total Labor | H24: =H23+H22 -> 0
G26: Total Request | H26: =H24+H20 -> 0

Sheet Market Listing
A1: Franchisee | C1: Master Franchisee List
A3: 43264
A6: RBMS Market # | B6: PODS Market Name | C6: Market Legal Name | D6: Corp?
A7: 1 | B7: Tampa Bay, FL | C7: PODS Enterprises, LLC | D7: Yes
A8: 2 | B8: Sarasota, FL | C8: PODS Enterprises, LLC | D8: Yes
A9: 3 | B9: South Florida | C9: PODS Enterprises, LLC | D9: Yes
A10: 4 | B10: Orlando, FL | C10: PODS Enterprises, LLC | D10: Yes
A11: 5 | B11: Minneapolis, MN | C11: PODS Enterprises, LLC | D11: Yes
A12: 6 | B12: Charlotte, NC | C12: Portable Storage Systems, Inc. | D12: Fran
A13: 7 | B13: Indianapolis, IN | C13: Portable Storage, Inc. | D13: Fran
A14: 8 | B14: Greater Cincinnati | C14: PODS Enterprises, LLC | D14: Yes
A15: 9 | B15: PODS Inter-Franchise | C15: PODS IF - (Type in Hub Location) | D15: Yes
A16: 10 | B16: Daytona, FL | C16: Ultimate Storage, Inc. | D16: Fran
A17: 11 | B17: Jacksonville, FL | C17: Ultimate Storage, Inc. | D17: Fran
A18: 12 | B18: Melbourne, FL | C18: PODS Enterprises, LLC | D18: Yes
... A150: 182 | B150: Evansville, IN | C150: PODS Enterprises, LLC | D150: Yes
A151: (Type in Market #) | B151: (Auto-populates after Mkt # is entered) | C151: (Auto-populates after Mkt # is entered)
